Workbook

Sheet 1. HFC Data and Targets
B1: CP and A7 HFC Consumption Data
B2: Overview of HFC Consumption | Z2: Comparison of A7 and CP Data | AL2: Overview of HFC Consumption | BK2: Comparison of A7 and CP Data
B3: Substance/Blends | C3: Unit | D3: A7 Data | O3: CP Data | AL3: Substance/Blends | AM3: GWP | AN3: Unit | AO3: A7 Data | AZ3: CP Data
D4: 2020 | E4: 2021 | F4: 2022 | G4: 2023 | H4: 2024 | I4: 2025 | J4: 2026 | K4: 2027 | L4: 2028 | M4: 2029 | N4: 2030 | O4: 2020 | P4: 2021 | Q4: 2022 | R4: 2023 | S4: 2024 | T4: 2025 | U4: 2026 | V4: 2027 | W4: 2028 | X4: 2029 | Y4: 2030 | Z4: 2020 | AA4: 2021 | AB4: 2022 | AC4: 2023 | AD4: 2024 | AE4: 2025 | AF4: 2026 | AG4: 2027 | AH4: 2028 | AI4: 2029 | AJ4: 2030 | AO4: =D4 -> 2020 | AP4: =E4 -> 2021 | AQ4: =F4 -> 2022 | AR4: =G4 -> 2023 | AS4: =H4 -> 2024 | AT4: 2025 | AU4: 2026 | AV4: 2027 | AW4: 2028 | AX4: 2029 | AY4: 2030 | AZ4: =O4 -> 2020 | BA4: =P4 -> 2021 | BB4: =Q4 -> 2022 | BC4: =R4 -> 2023 | BD4: =S4 -> 2024 | BE4: 2025 | BF4: 2026 | BG4: 2027 | BH4: 2028 | BI4: 2029 | BJ4: 2030 | BK4: 2020 | BL4: 2021 | BM4: 2022 | BN4: 2023 | BO4: 2024 | BP4: 2025 | BQ4: 2026 | BR4: 2027 | BS4: 2028 | BT4: 2029 | BU4: 2030
B5: HFC‑32 | C5: mt | Z5: =D5-O5 -> 0 | AA5: =E5-P5 -> 0 | AB5: =F5-Q5 -> 0 | AC5: =G5-R5 -> 0 | AD5: =H5-S5 -> 0 | AE5: =I5-T5 -> 0 | AF5: =J5-U5 -> 0 | AG5: =K5-V5 -> 0 | ... AJ5: =N5-Y5 -> 0 | AL5: =B5 -> HFC‑32 | AM5: 675 | AN5: CO2eq t | AO5: =D5*$AM5 -> 0 | AP5: =E5*$AM5 -> 0 | AQ5: =F5*$AM5 -> 0 | AR5: =G5*$AM5 -> 0 | AS5: =H5*$AM5 -> 0 | AT5: =I5*$AM5 -> 0 | AU5: =J5*$AM5 -> 0 | AV5: =K5*$AM5 -> 0 | ... BJ5: =Y5*$AM5 -> 0 | BK5: =AO5-AZ5 -> 0 | BL5: =AP5-BA5 -> 0 | BM5: =AQ5-BB5 -> 0 | BN5: =AR5-BC5 -> 0 | BO5: =AS5-BD5 -> 0 | BP5: =AT5-BE5 -> 0 | BQ5: =AU5-BF5 -> 0 | BR5: =AV5-BG5 -> 0 | ... BU5: =AY5-BJ5 -> 0
B6: HFC-125 | C6: mt | Z6: =D6-O6 -> 0 | AA6: =E6-P6 -> 0 | AB6: =F6-Q6 -> 0 | AC6: =G6-R6 -> 0 | AD6: =H6-S6 -> 0 | AE6: =I6-T6 -> 0 | AF6: =J6-U6 -> 0 | AG6: =K6-V6 -> 0 | ... AJ6: =N6-Y6 -> 0 | AL6: =B6 -> HFC-125 | AM6: 3500 | AN6: CO2eq t | AO6: =D6*$AM6 -> 0 | AP6: =E6*$AM6 -> 0 | AQ6: =F6*$AM6 -> 0 | AR6: =G6*$AM6 -> 0 | AS6: =H6*$AM6 -> 0 | AT6: =I6*$AM6 -> 0 | AU6: =J6*$AM6 -> 0 | AV6: =K6*$AM6 -> 0 | ... BJ6: =Y6*$AM6 -> 0 | BK6: =AO6-AZ6 -> 0 | BL6: =AP6-BA6 -> 0 | BM6: =AQ6-BB6 -> 0 | BN6: =AR6-BC6 -> 0 | BO6: =AS6-BD6 -> 0 | BP6: =AT6-BE6 -> 0 | BQ6: =AU6-BF6 -> 0 | BR6: =AV6-BG6 -> 0 | ... BU6: =AY6-BJ6 -> 0
B7: HFC-134a | C7: mt | Z7: =D7-O7 -> 0 | AA7: =E7-P7 -> 0 | AB7: =F7-Q7 -> 0 | AC7: =G7-R7 -> 0 | AD7: =H7-S7 -> 0 | AE7: =I7-T7 -> 0 | AF7: =J7-U7 -> 0 | AG7: =K7-V7 -> 0 | ... AJ7: =N7-Y7 -> 0 | AL7: =B7 -> HFC-134a | AM7: 1430 | AN7: CO2eq t | AO7: =D7*$AM7 -> 0 | AP7: =E7*$AM7 -> 0 | AQ7: =F7*$AM7 -> 0 | AR7: =G7*$AM7 -> 0 | AS7: =H7*$AM7 -> 0 | AT7: =I7*$AM7 -> 0 | AU7: =J7*$AM7 -> 0 | AV7: =K7*$AM7 -> 0 | ... BJ7: =Y7*$AM7 -> 0 | BK7: =AO7-AZ7 -> 0 | BL7: =AP7-BA7 -> 0 | BM7: =AQ7-BB7 -> 0 | BN7: =AR7-BC7 -> 0 | BO7: =AS7-BD7 -> 0 | BP7: =AT7-BE7 -> 0 | BQ7: =AU7-BF7 -> 0 | BR7: =AV7-BG7 -> 0 | ... BU7: =AY7-BJ7 -> 0
B8: HFC-143a | C8: mt | Z8: =D8-O8 -> 0 | AA8: =E8-P8 -> 0 | AB8: =F8-Q8 -> 0 | AC8: =G8-R8 -> 0 | AD8: =H8-S8 -> 0 | AE8: =I8-T8 -> 0 | AF8: =J8-U8 -> 0 | AG8: =K8-V8 -> 0 | ... AJ8: =N8-Y8 -> 0 | AL8: =B8 -> HFC-143a | AM8: 4470 | AN8: CO2eq t | AO8: =D8*$AM8 -> 0 | AP8: =E8*$AM8 -> 0 | AQ8: =F8*$AM8 -> 0 | AR8: =G8*$AM8 -> 0 | AS8: =H8*$AM8 -> 0 | AT8: =I8*$AM8 -> 0 | AU8: =J8*$AM8 -> 0 | AV8: =K8*$AM8 -> 0 | ... BJ8: =Y8*$AM8 -> 0 | BK8: =AO8-AZ8 -> 0 | BL8: =AP8-BA8 -> 0 | BM8: =AQ8-BB8 -> 0 | BN8: =AR8-BC8 -> 0 | BO8: =AS8-BD8 -> 0 | BP8: =AT8-BE8 -> 0 | BQ8: =AU8-BF8 -> 0 | BR8: =AV8-BG8 -> 0 | ... BU8: =AY8-BJ8 -> 0
B9: HFC-152a | C9: mt | Z9: =D9-O9 -> 0 | AA9: =E9-P9 -> 0 | AB9: =F9-Q9 -> 0 | AC9: =G9-R9 -> 0 | AD9: =H9-S9 -> 0 | AE9: =I9-T9 -> 0 | AF9: =J9-U9 -> 0 | AG9: =K9-V9 -> 0 | ... AJ9: =N9-Y9 -> 0 | AL9: =B9 -> HFC-152a | AM9: 124 | AN9: CO2eq t | AO9: =D9*$AM9 -> 0 | AP9: =E9*$AM9 -> 0 | AQ9: =F9*$AM9 -> 0 | AR9: =G9*$AM9 -> 0 | AS9: =H9*$AM9 -> 0 | AT9: =I9*$AM9 -> 0 | AU9: =J9*$AM9 -> 0 | AV9: =K9*$AM9 -> 0 | ... BJ9: =Y9*$AM9 -> 0 | BK9: =AO9-AZ9 -> 0 | BL9: =AP9-BA9 -> 0 | BM9: =AQ9-BB9 -> 0 | BN9: =AR9-BC9 -> 0 | BO9: =AS9-BD9 -> 0 | BP9: =AT9-BE9 -> 0 | BQ9: =AU9-BF9 -> 0 | BR9: =AV9-BG9 -> 0 | ... BU9: =AY9-BJ9 -> 0
B10: HFC-227ea | C10: mt | Z10: =D10-O10 -> 0 | AA10: =E10-P10 -> 0 | AB10: =F10-Q10 -> 0 | AC10: =G10-R10 -> 0 | AD10: =H10-S10 -> 0 | AE10: =I10-T10 -> 0 | AF10: =J10-U10 -> 0 | AG10: =K10-V10 -> 0 | ... AJ10: =N10-Y10 -> 0 | AL10: =B10 -> HFC-227ea | AM10: 3220 | AN10: CO2eq t | AO10: =D10*$AM10 -> 0 | AP10: =E10*$AM10 -> 0 | AQ10: =F10*$AM10 -> 0 | AR10: =G10*$AM10 -> 0 | AS10: =H10*$AM10 -> 0 | AT10: =I10*$AM10 -> 0 | AU10: =J10*$AM10 -> 0 | AV10: =K10*$AM10 -> 0 | ... BJ10: =Y10*$AM10 -> 0 | BK10: =AO10-AZ10 -> 0 | BL10: =AP10-BA10 -> 0 | BM10: =AQ10-BB10 -> 0 | BN10: =AR10-BC10 -> 0 | BO10: =AS10-BD10 -> 0 | BP10: =AT10-BE10 -> 0 | BQ10: =AU10-BF10 -> 0 | BR10: =AV10-BG10 -> 0 | ... BU10: =AY10-BJ10 -> 0
B11: HFC-236fa | C11: mt | Z11: =D11-O11 -> 0 | AA11: =E11-P11 -> 0 | AB11: =F11-Q11 -> 0 | AC11: =G11-R11 -> 0 | AD11: =H11-S11 -> 0 | AE11: =I11-T11 -> 0 | AF11: =J11-U11 -> 0 | AG11: =K11-V11 -> 0 | ... AJ11: =N11-Y11 -> 0 | AL11: =B11 -> HFC-236fa | AM11: 9810 | AN11: CO2eq t | AO11: =D11*$AM11 -> 0 | AP11: =E11*$AM11 -> 0 | AQ11: =F11*$AM11 -> 0 | AR11: =G11*$AM11 -> 0 | AS11: =H11*$AM11 -> 0 | AT11: =I11*$AM11 -> 0 | AU11: =J11*$AM11 -> 0 | AV11: =K11*$AM11 -> 0 | ... BJ11: =Y11*$AM11 -> 0 | BK11: =AO11-AZ11 -> 0 | BL11: =AP11-BA11 -> 0 | BM11: =AQ11-BB11 -> 0 | BN11: =AR11-BC11 -> 0 | BO11: =AS11-BD11 -> 0 | BP11: =AT11-BE11 -> 0 | BQ11: =AU11-BF11 -> 0 | BR11: =AV11-BG11 -> 0 | ... BU11: =AY11-BJ11 -> 0
B12: HFC-245fa | C12: mt | Z12: =D12-O12 -> 0 | AA12: =E12-P12 -> 0 | AB12: =F12-Q12 -> 0 | AC12: =G12-R12 -> 0 | AD12: =H12-S12 -> 0 | AE12: =I12-T12 -> 0 | AF12: =J12-U12 -> 0 | AG12: =K12-V12 -> 0 | ... AJ12: =N12-Y12 -> 0 | AL12: =B12 -> HFC-245fa | AM12: 1030 | AN12: CO2eq t | AO12: =D12*$AM12 -> 0 | AP12: =E12*$AM12 -> 0 | AQ12: =F12*$AM12 -> 0 | AR12: =G12*$AM12 -> 0 | AS12: =H12*$AM12 -> 0 | AT12: =I12*$AM12 -> 0 | AU12: =J12*$AM12 -> 0 | AV12: =K12*$AM12 -> 0 | ... BJ12: =Y12*$AM12 -> 0 | BK12: =AO12-AZ12 -> 0 | BL12: =AP12-BA12 -> 0 | BM12: =AQ12-BB12 -> 0 | BN12: =AR12-BC12 -> 0 | BO12: =AS12-BD12 -> 0 | BP12: =AT12-BE12 -> 0 | BQ12: =AU12-BF12 -> 0 | BR12: =AV12-BG12 -> 0 | ... BU12: =AY12-BJ12 -> 0
B13: HFC-365mfc | C13: mt | Z13: =D13-O13 -> 0 | AA13: =E13-P13 -> 0 | AB13: =F13-Q13 -> 0 | AC13: =G13-R13 -> 0 | AD13: =H13-S13 -> 0 | AE13: =I13-T13 -> 0 | AF13: =J13-U13 -> 0 | AG13: =K13-V13 -> 0 | ... AJ13: =N13-Y13 -> 0 | AL13: =B13 -> HFC-365mfc | AM13: 794 | AN13: CO2eq t | AO13: =D13*$AM13 -> 0 | AP13: =E13*$AM13 -> 0 | AQ13: =F13*$AM13 -> 0 | AR13: =G13*$AM13 -> 0 | AS13: =H13*$AM13 -> 0 | AT13: =I13*$AM13 -> 0 | AU13: =J13*$AM13 -> 0 | AV13: =K13*$AM13 -> 0 | ... BJ13: =Y13*$AM13 -> 0 | BK13: =AO13-AZ13 -> 0 | BL13: =AP13-BA13 -> 0 | BM13: =AQ13-BB13 -> 0 | BN13: =AR13-BC13 -> 0 | BO13: =AS13-BD13 -> 0 | BP13: =AT13-BE13 -> 0 | BQ13: =AU13-BF13 -> 0 | BR13: =AV13-BG13 -> 0 | ... BU13: =AY13-BJ13 -> 0
B14: HFC-43-10mee | C14: mt | Z14: =D14-O14 -> 0 | AA14: =E14-P14 -> 0 | AB14: =F14-Q14 -> 0 | AC14: =G14-R14 -> 0 | AD14: =H14-S14 -> 0 | AE14: =I14-T14 -> 0 | AF14: =J14-U14 -> 0 | AG14: =K14-V14 -> 0 | ... AJ14: =N14-Y14 -> 0 | AL14: =B14 -> HFC-43-10mee | AM14: 1640 | AN14: CO2eq t | AO14: =D14*$AM14 -> 0 | AP14: =E14*$AM14 -> 0 | AQ14: =F14*$AM14 -> 0 | AR14: =G14*$AM14 -> 0 | AS14: =H14*$AM14 -> 0 | AT14: =I14*$AM14 -> 0 | AU14: =J14*$AM14 -> 0 | AV14: =K14*$AM14 -> 0 | ... BJ14: =Y14*$AM14 -> 0 | BK14: =AO14-AZ14 -> 0 | BL14: =AP14-BA14 -> 0 | BM14: =AQ14-BB14 -> 0 | BN14: =AR14-BC14 -> 0 | BO14: =AS14-BD14 -> 0 | BP14: =AT14-BE14 -> 0 | BQ14: =AU14-BF14 -> 0 | BR14: =AV14-BG14 -> 0 | ... BU14: =AY14-BJ14 -> 0
B15: HFC-23 | C15: mt | Z15: =D15-O15 -> 0 | AA15: =E15-P15 -> 0 | AB15: =F15-Q15 -> 0 | AC15: =G15-R15 -> 0 | AD15: =H15-S15 -> 0 | AE15: =I15-T15 -> 0 | AF15: =J15-U15 -> 0 | AG15: =K15-V15 -> 0 | ... AJ15: =N15-Y15 -> 0 | AL15: =B15 -> HFC-23 | AM15: 14800 | AN15: CO2eq t | AO15: =D15*$AM15 -> 0 | AP15: =E15*$AM15 -> 0 | AQ15: =F15*$AM15 -> 0 | AR15: =G15*$AM15 -> 0 | AS15: =H15*$AM15 -> 0 | AT15: =I15*$AM15 -> 0 | AU15: =J15*$AM15 -> 0 | AV15: =K15*$AM15 -> 0 | ... BJ15: =Y15*$AM15 -> 0 | BK15: =AO15-AZ15 -> 0 | BL15: =AP15-BA15 -> 0 | BM15: =AQ15-BB15 -> 0 | BN15: =AR15-BC15 -> 0 | BO15: =AS15-BD15 -> 0 | BP15: =AT15-BE15 -> 0 | BQ15: =AU15-BF15 -> 0 | BR15: =AV15-BG15 -> 0 | ... BU15: =AY15-BJ15 -> 0
B16: R-404A | C16: mt | Z16: =D16-O16 -> 0 | AA16: =E16-P16 -> 0 | AB16: =F16-Q16 -> 0 | AC16: =G16-R16 -> 0 | AD16: =H16-S16 -> 0 | AE16: =I16-T16 -> 0 | AF16: =J16-U16 -> 0 | AG16: =K16-V16 -> 0 | ... AJ16: =N16-Y16 -> 0 | AL16: =B16 -> R-404A | AM16: 3921.6 | AN16: CO2eq t | AO16: =D16*$AM16 -> 0 | AP16: =E16*$AM16 -> 0 | AQ16: =F16*$AM16 -> 0 | AR16: =G16*$AM16 -> 0 | AS16: =H16*$AM16 -> 0 | AT16: =I16*$AM16 -> 0 | AU16: =J16*$AM16 -> 0 | AV16: =K16*$AM16 -> 0 | ... BJ16: =Y16*$AM16 -> 0 | BK16: =AO16-AZ16 -> 0 | BL16: =AP16-BA16 -> 0 | BM16: =AQ16-BB16 -> 0 | BN16: =AR16-BC16 -> 0 | BO16: =AS16-BD16 -> 0 | BP16: =AT16-BE16 -> 0 | BQ16: =AU16-BF16 -> 0 | BR16: =AV16-BG16 -> 0 | ... BU16: =AY16-BJ16 -> 0
... B46: R-516A | C46: mt | Z46: =D46-O46 -> 0 | AA46: =E46-P46 -> 0 | AB46: =F46-Q46 -> 0 | AC46: =G46-R46 -> 0 | AD46: =H46-S46 -> 0 | AE46: =I46-T46 -> 0 | AF46: =J46-U46 -> 0 | AG46: =K46-V46 -> 0 | ... AJ46: =N46-Y46 -> 0 | AL46: =B46 -> R-516A | AM46: 138.91 | AN46: CO2eq t | AO46: =D46*$AM46 -> 0 | AP46: =E46*$AM46 -> 0 | AQ46: =F46*$AM46 -> 0 | AR46: =G46*$AM46 -> 0 | AS46: =H46*$AM46 -> 0 | AT46: =I46*$AM46 -> 0 | AU46: =J46*$AM46 -> 0 | AV46: =K46*$AM46 -> 0 | ... BJ46: =Y46*$AM46 -> 0 | BK46: =AO46-AZ46 -> 0 | BL46: =AP46-BA46 -> 0 | BM46: =AQ46-BB46 -> 0 | BN46: =AR46-BC46 -> 0 | BO46: =AS46-BD46 -> 0 | BP46: =AT46-BE46 -> 0 | BQ46: =AU46-BF46 -> 0 | BR46: =AV46-BG46 -> 0 | ... BU46: =AY46-BJ46 -> 0
B47: Other (please specify) | C47: mt | Z47: =D47-O47 -> 0 | AA47: =E47-P47 -> 0 | AB47: =F47-Q47 -> 0 | AC47: =G47-R47 -> 0 | AD47: =H47-S47 -> 0 | AE47: =I47-T47 -> 0 | AF47: =J47-U47 -> 0 | AG47: =K47-V47 -> 0 | ... AJ47: =N47-Y47 -> 0 | AL47: =B47 -> Other (please specify) | AN47: CO2eq t | AO47: =D47*$AM47 -> 0 | AP47: =E47*$AM47 -> 0 | AQ47: =F47*$AM47 -> 0 | AR47: =G47*$AM47 -> 0 | AS47: =H47*$AM47 -> 0 | AT47: =I47*$AM47 -> 0 | AU47: =J47*$AM47 -> 0 | AV47: =K47*$AM47 -> 0 | ... BJ47: =Y47*$AM47 -> 0 | BK47: =AO47-AZ47 -> 0 | BL47: =AP47-BA47 -> 0 | BM47: =AQ47-BB47 -> 0 | BN47: =AR47-BC47 -> 0 | BO47: =AS47-BD47 -> 0 | BP47: =AT47-BE47 -> 0 | BQ47: =AU47-BF47 -> 0 | BR47: =AV47-BG47 -> 0 | ... BU47: =AY47-BJ47 -> 0
B48: Other (please specify) | C48: mt | Z48: =D48-O48 -> 0 | AA48: =E48-P48 -> 0 | AB48: =F48-Q48 -> 0 | AC48: =G48-R48 -> 0 | AD48: =H48-S48 -> 0 | AE48: =I48-T48 -> 0 | AF48: =J48-U48 -> 0 | AG48: =K48-V48 -> 0 | ... AJ48: =N48-Y48 -> 0 | AL48: =B48 -> Other (please specify) | AN48: CO2eq t | AO48: =D48*$AM48 -> 0 | AP48: =E48*$AM48 -> 0 | AQ48: =F48*$AM48 -> 0 | AR48: =G48*$AM48 -> 0 | AS48: =H48*$AM48 -> 0 | AT48: =I48*$AM48 -> 0 | AU48: =J48*$AM48 -> 0 | AV48: =K48*$AM48 -> 0 | ... BJ48: =Y48*$AM48 -> 0 | BK48: =AO48-AZ48 -> 0 | BL48: =AP48-BA48 -> 0 | BM48: =AQ48-BB48 -> 0 | BN48: =AR48-BC48 -> 0 | BO48: =AS48-BD48 -> 0 | BP48: =AT48-BE48 -> 0 | BQ48: =AU48-BF48 -> 0 | BR48: =AV48-BG48 -> 0 | ... BU48: =AY48-BJ48 -> 0
B49: Total | C49: mt | D49: =SUM(D5:D48) -> 0 | E49: =SUM(E5:E48) -> 0 | F49: =SUM(F5:F48) -> 0 | G49: =SUM(G5:G48) -> 0 | H49: =SUM(H5:H48) -> 0 | O49: =SUM(O5:O48) -> 0 | P49: =SUM(P5:P48) -> 0 | Q49: =SUM(Q5:Q48) -> 0 | R49: =SUM(R5:R48) -> 0 | S49: =SUM(S5:S48) -> 0 | Z49: =SUM(Z5:Z48) -> 0 | AA49: =SUM(AA5:AA48) -> 0 | AB49: =SUM(AB5:AB48) -> 0 | AC49: =SUM(AC5:AC48) -> 0 | AD49: =SUM(AD5:AD48) -> 0 | AE49: =SUM(AE5:AE48) -> 0 | AF49: =SUM(AF5:AF48) -> 0 | AG49: =SUM(AG5:AG48) -> 0 | ... AJ49: =SUM(AJ5:AJ48) -> 0 | AL49: Total | AN49: CO2eq t | AO49: =SUM(AO5:AO48) -> 0 | AP49: =SUM(AP5:AP48) -> 0 | AQ49: =SUM(AQ5:AQ48) -> 0 | AR49: =SUM(AR5:AR48) -> 0 | AS49: =SUM(AS5:AS48) -> 0 | AT49: =SUM(AT5:AT48) -> 0 | AU49: =SUM(AU5:AU48) -> 0 | AV49: =SUM(AV5:AV48) -> 0 | ... BU49: =SUM(BU5:BU48) -> 0
B50: HFC-245fa polyol | C50: mt | Z50: =D50-O50 -> 0 | AA50: =E50-P50 -> 0 | AB50: =F50-Q50 -> 0 | AC50: =G50-R50 -> 0 | AD50: =H50-S50 -> 0 | AE50: =I50-T50 -> 0 | AF50: =J50-U50 -> 0 | AG50: =K50-V50 -> 0 | ... AJ50: =N50-Y50 -> 0 | AL50: =B50 -> HFC-245fa polyol | AM50: 1030 | AN50: CO2eq t | AO50: =D50*$AM50 -> 0 | AP50: =E50*$AM50 -> 0 | AQ50: =F50*$AM50 -> 0 | AR50: =G50*$AM50 -> 0 | AS50: =H50*$AM50 -> 0 | AT50: =I50*$AM50 -> 0 | AU50: =J50*$AM50 -> 0 | AV50: =K50*$AM50 -> 0 | ... BJ50: =Y50*$AM50 -> 0 | BK50: =AO50-AZ50 -> 0 | BL50: =AP50-BA50 -> 0 | BM50: =AQ50-BB50 -> 0 | BN50: =AR50-BC50 -> 0 | BO50: =AS50-BD50 -> 0 | BP50: =AT50-BE50 -> 0 | BQ50: =AU50-BF50 -> 0 | BR50: =AV50-BG50 -> 0 | ... BU50: =AY50-BJ50 -> 0
B51: HFC-365mfc polyol | C51: mt | Z51: =D51-O51 -> 0 | AA51: =E51-P51 -> 0 | AB51: =F51-Q51 -> 0 | AC51: =G51-R51 -> 0 | AD51: =H51-S51 -> 0 | AE51: =I51-T51 -> 0 | AF51: =J51-U51 -> 0 | AG51: =K51-V51 -> 0 | ... AJ51: =N51-Y51 -> 0 | AL51: =B51 -> HFC-365mfc polyol | AM51: 794 | AN51: CO2eq t | AO51: =D51*$AM51 -> 0 | AP51: =E51*$AM51 -> 0 | AQ51: =F51*$AM51 -> 0 | AR51: =G51*$AM51 -> 0 | AS51: =H51*$AM51 -> 0 | AT51: =I51*$AM51 -> 0 | AU51: =J51*$AM51 -> 0 | AV51: =K51*$AM51 -> 0 | ... BJ51: =Y51*$AM51 -> 0 | BK51: =AO51-AZ51 -> 0 | BL51: =AP51-BA51 -> 0 | BM51: =AQ51-BB51 -> 0 | BN51: =AR51-BC51 -> 0 | BO51: =AS51-BD51 -> 0 | BP51: =AT51-BE51 -> 0 | BQ51: =AU51-BF51 -> 0 | BR51: =AV51-BG51 -> 0 | ... BU51: =AY51-BJ51 -> 0
B52: Other polyol (please specify) | C52: mt | Z52: =D52-O52 -> 0 | AA52: =E52-P52 -> 0 | AB52: =F52-Q52 -> 0 | AC52: =G52-R52 -> 0 | AD52: =H52-S52 -> 0 | AE52: =I52-T52 -> 0 | AF52: =J52-U52 -> 0 | AG52: =K52-V52 -> 0 | ... AJ52: =N52-Y52 -> 0 | AL52: =B52 -> Other polyol (please specify) | AN52: CO2eq t | AO52: =D52*$AM52 -> 0 | AP52: =E52*$AM52 -> 0 | AQ52: =F52*$AM52 -> 0 | AR52: =G52*$AM52 -> 0 | AS52: =H52*$AM52 -> 0 | AT52: =I52*$AM52 -> 0 | AU52: =J52*$AM52 -> 0 | AV52: =K52*$AM52 -> 0 | ... BJ52: =Y52*$AM52 -> 0 | BK52: =AO52-AZ52 -> 0 | BL52: =AP52-BA52 -> 0 | BM52: =AQ52-BB52 -> 0 | BN52: =AR52-BC52 -> 0 | BO52: =AS52-BD52 -> 0 | BP52: =AT52-BE52 -> 0 | BQ52: =AU52-BF52 -> 0 | BR52: =AV52-BG52 -> 0 | ... BU52: =AY52-BJ52 -> 0
B53: Polyol Total | C53: mt | D53: =SUM(D50:D52) -> 0 | E53: =SUM(E50:E52) -> 0 | F53: =SUM(F50:F52) -> 0 | G53: =SUM(G50:G52) -> 0 | H53: =SUM(H50:H52) -> 0 | O53: =SUM(O50:O52) -> 0 | P53: =SUM(P50:P52) -> 0 | Q53: =SUM(Q50:Q52) -> 0 | R53: =SUM(R50:R52) -> 0 | S53: =SUM(S50:S52) -> 0 | Z53: =SUM(Z50:Z52) -> 0 | AA53: =SUM(AA50:AA52) -> 0 | AB53: =SUM(AB50:AB52) -> 0 | AC53: =SUM(AC50:AC52) -> 0 | AD53: =SUM(AD50:AD52) -> 0 | AE53: =SUM(AE50:AE52) -> 0 | AF53: =SUM(AF50:AF52) -> 0 | AG53: =SUM(AG50:AG52) -> 0 | ... AJ53: =SUM(AJ50:AJ52) -> 0 | AL53: Polyol Total | AN53: CO2eq t | AO53: =SUM(AO50:AO52) -> 0 | AP53: =SUM(AP50:AP52) -> 0 | AQ53: =SUM(AQ50:AQ52) -> 0 | AR53: =SUM(AR50:AR52) -> 0 | AS53: =SUM(AS50:AS52) -> 0 | AT53: =SUM(AT50:AT52) -> 0 | AU53: =SUM(AU50:AU52) -> 0 | AV53: =SUM(AV50:AV52) -> 0 | ... BU53: =SUM(BU50:BU52) -> 0
B55: HFC Baseline | C55: CO2eqt | D55: =H55+L55 -> 0 | E55: HFC Component of the Baseline | H55: =AVERAGE(AO49:AQ49) -> 0 | I55: HCFC Component of the Baseline
B56: Data Source | C56: Unit | D56: 2020 | E56: 2021 | F56: 2022 | G56: 2023 | H56: 2024 | I56: 2025 | J56: 2026 | K56: 2027 | L56: 2028 | M56: 2029 | N56: 2030
B57: Row 1.1: Montreal Protocol reduction schedule of Annex F substances | C57: % | D57: n/a | E57: n/a | F57: n/a | G57: ='Appendix 2-A'!E6 -> n/a | H57: ='Appendix 2-A'!F6 -> freeze | I57: ='Appendix 2-A'!G6 -> freeze | J57: ='Appendix 2-A'!H6 -> freeze | K57: ='Appendix 2-A'!I6 -> freeze | L57: ='Appendix 2-A'!J6 -> freeze | M57: ='Appendix 2-A'!K6 -> 0.1 | N57: ='Appendix 2-A'!L6 -> 0.1
C58: CO2-eq tonnes | D58: n/a | E58: n/a | F58: n/a | G58: ='Appendix 2-A'!E7 -> n/a | H58: ='Appendix 2-A'!F7 -> 0 | I58: ='Appendix 2-A'!G7 -> 0 | J58: ='Appendix 2-A'!H7 -> 0 | K58: ='Appendix 2-A'!I7 -> 0 | L58: ='Appendix 2-A'!J7 -> 0 | M58: ='Appendix 2-A'!K7 -> 0 | N58: ='Appendix 2-A'!L7 -> 0
B59: Row 1.2: Maximum allowable total consumption of Annex F substances | C59: Reduction in % | D59: n/a | E59: n/a | F59: n/a | G59: ='Appendix 2-A'!E8 -> n/a | H59: ='Appendix 2-A'!F8 -> 0 | I59: ='Appendix 2-A'!G8 -> 0 | J59: ='Appendix 2-A'!H8 -> 0 | K59: ='Appendix 2-A'!I8 -> 0 | L59: ='Appendix 2-A'!J8 -> 0 | M59: ='Appendix 2-A'!K8 -> 0 | N59: ='Appendix 2-A'!L8 -> 0
C60: CO2-eq tonnes | D60: n/a | E60: n/a | F60: n/a | G60: ='Appendix 2-A'!E9 -> n/a | H60: ='Appendix 2-A'!F9 -> 0 | I60: ='Appendix 2-A'!G9 -> 0 | J60: ='Appendix 2-A'!H9 -> 0 | K60: ='Appendix 2-A'!I9 -> 0 | L60: ='Appendix 2-A'!J9 -> 0 | M60: ='Appendix 2-A'!K9 -> 0 | N60: ='Appendix 2-A'!L9 -> 0
B61: Article 7 Data Total | C61: mt | D61: =D49 -> 0 | E61: =E49 -> 0 | F61: =F49 -> 0 | G61: =G49 -> 0 | H61: =H49 -> 0 | I61: =I49 -> 0 | J61: =J49 -> 0 | K61: =K49 -> 0 | ... N61: =N49 -> 0
C62: CO2eqt | D62: =AO49 -> 0 | E62: =AP49 -> 0 | F62: =AQ49 -> 0 | G62: =AR49 -> 0 | H62: =AS49 -> 0 | I62: =AT49 -> 0 | J62: =AU49 -> 0 | K62: =AV49 -> 0 | ... N62: =AY49 -> 0
B63: Country Programme Data Total | C63: mt | D63: =O49 -> 0 | E63: =P49 -> 0 | F63: =Q49 -> 0 | G63: =R49 -> 0 | H63: =S49 -> 0 | I63: =T49 -> 0 | J63: =U49 -> 0 | K63: =V49 -> 0 | ... N63: =Y49 -> 0
C64: CO2eqt | D64: =AZ49 -> 0 | E64: =BA49 -> 0 | F64: =BB49 -> 0 | G64: =BC49 -> 0 | H64: =BD49 -> 0 | I64: =BE49 -> 0 | J64: =BF49 -> 0 | K64: =BG49 -> 0 | ... N64: =BJ49 -> 0
B65: Verification Report Data Total | C65: mt
C66: CO2eqt

Sheet 2. Non-Invest & Monitoring
B2: Summary of Non-Investment Activities by Agency | F2: KIP Stage I Summary | Q2: KIP Stage I - First Tranche Reporting | X2: Kigali HFC Implementation Plan (stage I, second tranche) - Request for Funding | AC2: KIP Stage I - Second Tranche Reporting | AJ2: Kigali HFC Implementation Plan (stage I, third tranche) - Request for Funding | AO2: KIP Stage I - Third Tranche Reporting | AV2: Kigali HFC Implementation Plan (stage I, fourth tranche) - Request for Funding | BA2: KIP Stage I - Fourth Tranche Reporting
K3: (US $) | L3: (US $) | M3: (US $) | N3: (%) | O3: Completed | P3: Ongoing | Q3: (US $) | R3: (US $) | S3: (US $) | T3: (%) | U3: for Agency use only | W3: Activities and targets completed for the tranche | X3: Activity continued from previous tranche? | Y3: (US $) | Z3: (US $) | AA3: (US $) | AB3: Activities remaining to be implemented during the next tranche | AC3: (US $) | AD3: (US $) | AE3: (US $) | AF3: (%) | AG3: for Agency use only | AI3: Activities and targets completed for the tranche | AJ3: Activity continued from previous tranche? | AK3: (US $) | AL3: (US $) | AM3: (US $) | AN3: Activities remaining to be implemented during the next tranche | AO3: (US $) | AP3: (US $) | AQ3: (US $) | AR3: (%) | AS3: for Agency use only | AU3: Activities and targets completed for the tranche | AV3: Activity continued from previous tranche? | AW3: (US $) | AX3: (US $) | AY3: (US $) | AZ3: Activities remaining to be implemented during the next tranche | BA3: (US $) | BB3: (US $) | BC3: (US $) | BD3: (%) | BE3: for Agency use only | BG3: Activities and targets completed for the tranche
F4: Overall funds for Stage I Approved in Principle | G4: Tranche 1 | H4: Tranche 2 | I4: Tranche 3 | J4: Tranche 4 | K4: Cumulative Amount Approved | L4: Cumulative Amount Disbursed | M4: Cumulative Balance | N4: Cumulative Disburse-ment Rate | Q4: Approved for Tranche | R4: Disbursed for Tranche | S4: Tranche Balance | T4: Tranche Disbursement Rate | U4: Committed for Tranche | V4: Tranche Balance with Committed | Y4: Funding requested | Z4: Balance of funds remaining to be disbursed from previous tranche | AA4: Total budget planned during implementation period | AC4: Approved for Tranche | AD4: Disbursed for Tranche | AE4: Tranche Balance | AF4: Tranche Disbursement Rate | AG4: Committed for Tranche | AH4: Tranche Balance with Committed | AK4: Funding requested | AL4: Balance of funds remaining to be disbursed from previous tranche | AM4: Total budget planned during implementation period | AO4: Approved for Tranche | AP4: Disbursed for Tranche | AQ4: Tranche Balance | AR4: Tranche Disbursement Rate | AS4: Committed for Tranche | AT4: Tranche Balance with Committed | AW4: Funding requested | AX4: Balance of funds remaining to be disbursed from previous tranche | AY4: Total budget planned during implementation period | BA4: Approved for Tranche | BB4: Disbursed for Tranche | BC4: Tranche Balance | BD4: Tranche Disbursement Rate | BE4: Committed for Tranche | BF4: Tranche Balance with Committed
B5: Subtotal for Lead Agency | F5: =SUMIF($E21:$E57,"Lead IA",F21:F57) -> 0 | K5: =SUMIF($E23:$E57,"Lead IA",K23:K57) -> 0 | L5: =SUMIF($E23:$E57,"Lead IA",L23:L57) -> 0 | M5: =SUMIF($E23:$E57,"Lead IA",M23:M57) -> 0 | N5: =L5/K5 -> #DIV/0! | Q5: =SUMIF($E21:$E57,"Lead IA",Q21:Q57) -> 0 | R5: =SUMIF($E21:$E57,"Lead IA",R21:R57) -> 0 | S5: =SUMIF($E21:$E57,"Lead IA",S21:S57) -> 0 | T5: =R5/Q5 -> #DIV/0! | U5: =SUMIF($E21:$E57,"Lead IA",U21:U57) -> 0 | V5: =SUMIF($E21:$E57,"Lead IA",V21:V57) -> 0 | Y5: =SUMIF($E21:$E57,"Lead IA",Y21:Y57) -> 0 | Z5: =SUMIF($E21:$E57,"Lead IA",Z21:Z57) -> 0 | AA5: =SUMIF($E21:$E57,"Lead IA",AA21:AA57) -> 0 | AC5: =SUMIF($E21:$E57,"Lead IA",AC21:AC57) -> 0 | AD5: =SUMIF($E21:$E57,"Lead IA",AD21:AD57) -> 0 | AE5: =SUMIF($E21:$E57,"Lead IA",AE21:AE57) -> 0 | AF5: =AD5/AC5 -> #DIV/0! | AG5: =SUMIF($E21:$E57,"Lead IA",AG21:AG57) -> 0 | AH5: =SUMIF($E21:$E57,"Lead IA",AH21:AH57) -> 0 | AK5: =SUMIF($E21:$E57,"Lead IA",AK21:AK57) -> 0 | AL5: =SUMIF($E21:$E57,"Lead IA",AL21:AL57) -> 0 | AM5: =SUMIF($E21:$E57,"Lead IA",AM21:AM57) -> 0 | AO5: =SUMIF($E21:$E57,"Lead IA",AO21:AO57) -> 0 | AP5: =SUMIF($E21:$E57,"Lead IA",AP21:AP57) -> 0 | AQ5: =SUMIF($E21:$E57,"Lead IA",AQ21:AQ57) -> 0 | AR5: =AP5/AO5 -> #DIV/0! | AS5: =SUMIF($E21:$E57,"Lead IA",AS21:AS57) -> 0 | AT5: =SUMIF($E21:$E57,"Lead IA",AT21:AT57) -> 0 | AW5: =SUMIF($E21:$E57,"Lead IA",AW21:AW57) -> 0 | AX5: =SUMIF($E21:$E57,"Lead IA",AX21:AX57) -> 0 | AY5: =SUMIF($E21:$E57,"Lead IA",AY21:AY57) -> 0 | BA5: =SUMIF($E21:$E57,"Lead IA",BA21:BA57) -> 0 | BB5: =SUMIF($E21:$E57,"Lead IA",BB21:BB57) -> 0 | BC5: =SUMIF($E21:$E57,"Lead IA",BC21:BC57) -> 0 | BD5: =BB5/BA5 -> #DIV/0! | BE5: =SUMIF($E21:$E57,"Lead IA",BE21:BE57) -> 0 | BF5: =SUMIF($E21:$E57,"Lead IA",BF21:BF57) -> 0
B6: Subtotal for Cooperating Agency 1 | F6: =SUMIF($E21:$E57,"Co-op IA 1",F21:F57) -> 0 | K6: =SUMIF($E23:$E57,"Co-op IA 1",K23:K57) -> 0 | L6: =SUMIF($E23:$E57,"Co-op IA 1",L23:L57) -> 0 | M6: =SUMIF($E23:$E57,"Co-op IA 1",M23:M57) -> 0 | N6: =L6/K6 -> #DIV/0! | Q6: =SUMIF($E21:$E57,"Co-op IA 1",Q21:Q57) -> 0 | R6: =SUMIF($E21:$E57,"Co-op IA 1",R21:R57) -> 0 | S6: =SUMIF($E21:$E57,"Co-op IA 1",S21:S57) -> 0 | T6: =R6/Q6 -> #DIV/0! | U6: =SUMIF($E21:$E57,"Co-op IA 1",U21:U57) -> 0 | V6: =SUMIF($E21:$E57,"Co-op IA 1",V21:V57) -> 0 | Y6: =SUMIF($E21:$E57,"Co-op IA 1",Y21:Y57) -> 0 | Z6: =SUMIF($E21:$E57,"Co-op IA 1",Z21:Z57) -> 0 | AA6: =SUMIF($E21:$E57,"Co-op IA 1",AA21:AA57) -> 0 | AC6: =SUMIF($E21:$E57,"Co-op IA 1",AC21:AC57) -> 0 | AD6: =SUMIF($E21:$E57,"Co-op IA 1",AD21:AD57) -> 0 | AE6: =SUMIF($E21:$E57,"Co-op IA 1",AE21:AE57) -> 0 | AF6: =AD6/AC6 -> #DIV/0! | AG6: =SUMIF($E21:$E57,"Co-op IA 1",AG21:AG57) -> 0 | AH6: =SUMIF($E21:$E57,"Co-op IA 1",AH21:AH57) -> 0 | AK6: =SUMIF($E21:$E57,"Co-op IA 1",AK21:AK57) -> 0 | AL6: =SUMIF($E21:$E57,"Co-op IA 1",AL21:AL57) -> 0 | AM6: =SUMIF($E21:$E57,"Co-op IA 1",AM21:AM57) -> 0 | AO6: =SUMIF($E21:$E57,"Co-op IA 1",AO21:AO57) -> 0 | AP6: =SUMIF($E21:$E57,"Co-op IA 1",AP21:AP57) -> 0 | AQ6: =SUMIF($E21:$E57,"Co-op IA 1",AQ21:AQ57) -> 0 | AR6: =AP6/AO6 -> #DIV/0! | AS6: =SUMIF($E21:$E57,"Co-op IA 1",AS21:AS57) -> 0 | AT6: =SUMIF($E21:$E57,"Co-op IA 1",AT21:AT57) -> 0 | AW6: =SUMIF($E21:$E57,"Co-op IA 1",AW21:AW57) -> 0 | AX6: =SUMIF($E21:$E57,"Co-op IA 1",AX21:AX57) -> 0 | AY6: =SUMIF($E21:$E57,"Co-op IA 1",AY21:AY57) -> 0 | BA6: =SUMIF($E21:$E57,"Co-op IA 1",BA21:BA57) -> 0 | BB6: =SUMIF($E21:$E57,"Co-op IA 1",BB21:BB57) -> 0 | BC6: =SUMIF($E21:$E57,"Co-op IA 1",BC21:BC57) -> 0 | BD6: =BB6/BA6 -> #DIV/0! | BE6: =SUMIF($E21:$E57,"Co-op IA 1",BE21:BE57) -> 0 | BF6: =SUMIF($E21:$E57,"Co-op IA 1",BF21:BF57) -> 0
B7: Subtotal for Cooperating Agency 2 | F7: =SUMIF($E21:$E57,"Co-op IA 2",F21:F57) -> 0 | K7: =SUMIF($E23:$E57,"Co-op IA 2",K23:K57) -> 0 | L7: =SUMIF($E23:$E57,"Co-op IA 2",L23:L57) -> 0 | M7: =SUMIF($E23:$E57,"Co-op IA 2",M23:M57) -> 0 | N7: =L7/K7 -> #DIV/0! | Q7: =SUMIF($E21:$E57,"Co-op IA 2",Q21:Q57) -> 0 | R7: =SUMIF($E21:$E57,"Co-op IA 2",R21:R57) -> 0 | S7: =SUMIF($E21:$E57,"Co-op IA 2",S21:S57) -> 0 | T7: =R7/Q7 -> #DIV/0! | U7: =SUMIF($E21:$E57,"Co-op IA 2",U21:U57) -> 0 | V7: =SUMIF($E21:$E57,"Co-op IA 2",V21:V57) -> 0 | Y7: =SUMIF($E21:$E57,"Co-op IA 2",Y21:Y57) -> 0 | Z7: =SUMIF($E21:$E57,"Co-op IA 2",Z21:Z57) -> 0 | AA7: =SUMIF($E21:$E57,"Co-op IA 2",AA21:AA57) -> 0 | AC7: =SUMIF($E21:$E57,"Co-op IA 2",AC21:AC57) -> 0 | AD7: =SUMIF($E21:$E57,"Co-op IA 2",AD21:AD57) -> 0 | AE7: =SUMIF($E21:$E57,"Co-op IA 2",AE21:AE57) -> 0 | AF7: =AD7/AC7 -> #DIV/0! | AG7: =SUMIF($E21:$E57,"Co-op IA 2",AG21:AG57) -> 0 | AH7: =SUMIF($E21:$E57,"Co-op IA 2",AH21:AH57) -> 0 | AK7: =SUMIF($E21:$E57,"Co-op IA 2",AK21:AK57) -> 0 | AL7: =SUMIF($E21:$E57,"Co-op IA 2",AL21:AL57) -> 0 | AM7: =SUMIF($E21:$E57,"Co-op IA 2",AM21:AM57) -> 0 | AO7: =SUMIF($E21:$E57,"Co-op IA 2",AO21:AO57) -> 0 | AP7: =SUMIF($E21:$E57,"Co-op IA 2",AP21:AP57) -> 0 | AQ7: =SUMIF($E21:$E57,"Co-op IA 2",AQ21:AQ57) -> 0 | AR7: =AP7/AO7 -> #DIV/0! | AS7: =SUMIF($E21:$E57,"Co-op IA 2",AS21:AS57) -> 0 | AT7: =SUMIF($E21:$E57,"Co-op IA 2",AT21:AT57) -> 0 | AW7: =SUMIF($E21:$E57,"Co-op IA 2",AW21:AW57) -> 0 | AX7: =SUMIF($E21:$E57,"Co-op IA 2",AX21:AX57) -> 0 | AY7: =SUMIF($E21:$E57,"Co-op IA 2",AY21:AY57) -> 0 | BA7: =SUMIF($E21:$E57,"Co-op IA 2",BA21:BA57) -> 0 | BB7: =SUMIF($E21:$E57,"Co-op IA 2",BB21:BB57) -> 0 | BC7: =SUMIF($E21:$E57,"Co-op IA 2",BC21:BC57) -> 0 | BD7: =BB7/BA7 -> #DIV/0! | BE7: =SUMIF($E21:$E57,"Co-op IA 2",BE21:BE57) -> 0 | BF7: =SUMIF($E21:$E57,"Co-op IA 2",BF21:BF57) -> 0
B8: Subtotal for Cooperating Agency 3 | F8: =SUMIF($E21:$E57,"Co-op IA 3",F21:F57) -> 0 | K8: =SUMIF($E23:$E57,"Co-op IA 3",K23:K57) -> 0 | L8: =SUMIF($E23:$E57,"Co-op IA 3",L23:L57) -> 0 | M8: =SUMIF($E23:$E57,"Co-op IA 3",M23:M57) -> 0 | N8: =L8/K8 -> #DIV/0! | Q8: =SUMIF($E21:$E57,"Co-op IA 3",Q21:Q57) -> 0 | R8: =SUMIF($E21:$E57,"Co-op IA 3",R21:R57) -> 0 | S8: =SUMIF($E21:$E57,"Co-op IA 3",S21:S57) -> 0 | T8: =R8/Q8 -> #DIV/0! | U8: =SUMIF($E21:$E57,"Co-op IA 3",U21:U57) -> 0 | V8: =SUMIF($E21:$E57,"Co-op IA 3",V21:V57) -> 0 | Y8: =SUMIF($E21:$E57,"Co-op IA 3",Y21:Y57) -> 0 | Z8: =SUMIF($E21:$E57,"Co-op IA 3",Z21:Z57) -> 0 | AA8: =SUMIF($E21:$E57,"Co-op IA 3",AA21:AA57) -> 0 | AC8: =SUMIF($E21:$E57,"Co-op IA 3",AC21:AC57) -> 0 | AD8: =SUMIF($E21:$E57,"Co-op IA 3",AD21:AD57) -> 0 | AE8: =SUMIF($E21:$E57,"Co-op IA 3",AE21:AE57) -> 0 | AF8: =AD8/AC8 -> #DIV/0! | AG8: =SUMIF($E21:$E57,"Co-op IA 3",AG21:AG57) -> 0 | AH8: =SUMIF($E21:$E57,"Co-op IA 3",AH21:AH57) -> 0 | AK8: =SUMIF($E21:$E57,"Co-op IA 3",AK21:AK57) -> 0 | AL8: =SUMIF($E21:$E57,"Co-op IA 3",AL21:AL57) -> 0 | AM8: =SUMIF($E21:$E57,"Co-op IA 3",AM21:AM57) -> 0 | AO8: =SUMIF($E21:$E57,"Co-op IA 3",AO21:AO57) -> 0 | AP8: =SUMIF($E21:$E57,"Co-op IA 3",AP21:AP57) -> 0 | AQ8: =SUMIF($E21:$E57,"Co-op IA 3",AQ21:AQ57) -> 0 | AR8: =AP8/AO8 -> #DIV/0! | AS8: =SUMIF($E21:$E57,"Co-op IA 3",AS21:AS57) -> 0 | AT8: =SUMIF($E21:$E57,"Co-op IA 3",AT21:AT57) -> 0 | AW8: =SUMIF($E21:$E57,"Co-op IA 3",AW21:AW57) -> 0 | AX8: =SUMIF($E21:$E57,"Co-op IA 3",AX21:AX57) -> 0 | AY8: =SUMIF($E21:$E57,"Co-op IA 3",AY21:AY57) -> 0 | BA8: =SUMIF($E21:$E57,"Co-op IA 3",BA21:BA57) -> 0 | BB8: =SUMIF($E21:$E57,"Co-op IA 3",BB21:BB57) -> 0 | BC8: =SUMIF($E21:$E57,"Co-op IA 3",BC21:BC57) -> 0 | BD8: =BB8/BA8 -> #DIV/0! | BE8: =SUMIF($E21:$E57,"Co-op IA 3",BE21:BE57) -> 0 | BF8: =SUMIF($E21:$E57,"Co-op IA 3",BF21:BF57) -> 0
B9: Total for Non-Investment Project Activities | F9: =SUM(F5:F8) -> 0 | K9: =SUM(K5:K8) -> 0 | L9: =SUM(L5:L8) -> 0 | M9: =SUM(M5:M8) -> 0 | N9: =L9/K9 -> #DIV/0! | Q9: =SUM(Q5:Q8) -> 0 | R9: =SUM(R5:R8) -> 0 | S9: =SUM(S5:S8) -> 0 | T9: =R9/Q9 -> #DIV/0! | U9: =SUM(U5:U8) -> 0 | V9: =SUM(V5:V8) -> 0 | Y9: =SUM(Y5:Y8) -> 0 | Z9: =SUM(Z5:Z8) -> 0 | AA9: =SUM(AA5:AA8) -> 0 | AC9: =SUM(AC5:AC8) -> 0 | AD9: =SUM(AD5:AD8) -> 0 | AE9: =SUM(AE5:AE8) -> 0 | AF9: =AD9/AC9 -> #DIV/0! | AG9: =SUM(AG5:AG8) -> 0 | AH9: =SUM(AH5:AH8) -> 0 | AK9: =SUM(AK5:AK8) -> 0 | AL9: =SUM(AL5:AL8) -> 0 | AM9: =SUM(AM5:AM8) -> 0 | AO9: =SUM(AO5:AO8) -> 0 | AP9: =SUM(AP5:AP8) -> 0 | AQ9: =SUM(AQ5:AQ8) -> 0 | AR9: =AP9/AO9 -> #DIV/0! | AS9: =SUM(AS5:AS8) -> 0 | AT9: =SUM(AT5:AT8) -> 0 | AW9: =SUM(AW5:AW8) -> 0 | AX9: =SUM(AX5:AX8) -> 0 | AY9: =SUM(AY5:AY8) -> 0 | BA9: =SUM(BA5:BA8) -> 0 | BB9: =SUM(BB5:BB8) -> 0 | BC9: =SUM(BC5:BC8) -> 0 | BD9: =BB9/BA9 -> #DIV/0! | BE9: =SUM(BE5:BE8) -> 0 | BF9: =SUM(BF5:BF8) -> 0
B10: Subtotal for Lead Agency | F10: =SUMIF($E64:$E67,"Lead IA",F64:F67) -> 0 | K10: =SUMIF($E64:$E67,"Lead IA",K64:K67) -> 0 | L10: =SUMIF($E64:$E67,"Lead IA",L64:L67) -> 0 | M10: =SUMIF($E64:$E67,"Lead IA",M64:M67) -> 0 | N10: =L10/K10 -> #DIV/0! | Q10: =SUMIF($E64:$E67,"Lead IA",Q64:Q67) -> 0 | R10: =SUMIF($E64:$E67,"Lead IA",R64:R67) -> 0 | S10: =SUMIF($E64:$E67,"Lead IA",S64:S67) -> 0 | T10: =R10/Q10 -> #DIV/0! | U10: =SUMIF($E64:$E67,"Lead IA",U64:U67) -> 0 | V10: =SUMIF($E64:$E67,"Lead IA",V64:V67) -> 0 | Y10: =SUMIF($E64:$E67,"Lead IA",Y64:Y67) -> 0 | Z10: =SUMIF($E64:$E67,"Lead IA",Z64:Z67) -> 0 | AA10: =SUMIF($E64:$E67,"Lead IA",AA64:AA67) -> 0 | AC10: =SUMIF($E64:$E67,"Lead IA",AC64:AC67) -> 0 | AD10: =SUMIF($E64:$E67,"Lead IA",AD64:AD67) -> 0 | AE10: =SUMIF($E64:$E67,"Lead IA",AE64:AE67) -> 0 | AF10: =AD10/AC10 -> #DIV/0! | AG10: =SUMIF($E64:$E67,"Lead IA",AG64:AG67) -> 0 | AH10: =SUMIF($E64:$E67,"Lead IA",AH64:AH67) -> 0 | AK10: =SUMIF($E64:$E67,"Lead IA",AK64:AK67) -> 0 | AL10: =SUMIF($E64:$E67,"Lead IA",AL64:AL67) -> 0 | AM10: =SUMIF($E64:$E67,"Lead IA",AM64:AM67) -> 0 | AO10: =SUMIF($E64:$E67,"Lead IA",AO64:AO67) -> 0 | AP10: =SUMIF($E64:$E67,"Lead IA",AP64:AP67) -> 0 | AQ10: =SUMIF($E64:$E67,"Lead IA",AQ64:AQ67) -> 0 | AR10: =AP10/AO10 -> #DIV/0! | AS10: =SUMIF($E64:$E67,"Lead IA",AS64:AS67) -> 0 | AT10: =SUMIF($E64:$E67,"Lead IA",AT64:AT67) -> 0 | AW10: =SUMIF($E64:$E67,"Lead IA",AW64:AW67) -> 0 | AX10: =SUMIF($E64:$E67,"Lead IA",AX64:AX67) -> 0 | AY10: =SUMIF($E64:$E67,"Lead IA",AY64:AY67) -> 0 | BA10: =SUMIF($E64:$E67,"Lead IA",BA64:BA67) -> 0 | BB10: =SUMIF($E64:$E67,"Lead IA",BB64:BB67) -> 0 | BC10: =SUMIF($E64:$E67,"Lead IA",BC64:BC67) -> 0 | BD10: =BB10/BA10 -> #DIV/0! | BE10: =SUMIF($E64:$E67,"Lead IA",BE64:BE67) -> 0 | BF10: =SUMIF($E64:$E67,"Lead IA",BF64:BF67) -> 0
B11: Subtotal for Cooperating Agency 1 | F11: =SUMIF($E64:$E67,"Co-op IA 1",F64:F67) -> 0 | K11: =SUMIF($E64:$E67,"Co-op IA 1",K64:K67) -> 0 | L11: =SUMIF($E64:$E67,"Co-op IA 1",L64:L67) -> 0 | M11: =SUMIF($E64:$E67,"Co-op IA 1",M64:M67) -> 0 | N11: =L11/K11 -> #DIV/0! | Q11: =SUMIF($E64:$E67,"Co-op IA 1",Q64:Q67) -> 0 | R11: =SUMIF($E64:$E67,"Co-op IA 1",R64:R67) -> 0 | S11: =SUMIF($E64:$E67,"Co-op IA 1",S64:S67) -> 0 | T11: =R11/Q11 -> #DIV/0! | U11: =SUMIF($E64:$E67,"Co-op IA 1",U64:U67) -> 0 | V11: =SUMIF($E64:$E67,"Co-op IA 1",V64:V67) -> 0 | Y11: =SUMIF($E64:$E67,"Co-op IA 1",Y64:Y67) -> 0 | Z11: =SUMIF($E64:$E67,"Co-op IA 1",Z64:Z67) -> 0 | AA11: =SUMIF($E64:$E67,"Co-op IA 1",AA64:AA67) -> 0 | AC11: =SUMIF($E64:$E67,"Co-op IA 1",AC64:AC67) -> 0 | AD11: =SUMIF($E64:$E67,"Co-op IA 1",AD64:AD67) -> 0 | AE11: =SUMIF($E64:$E67,"Co-op IA 1",AE64:AE67) -> 0 | AF11: =AD11/AC11 -> #DIV/0! | AG11: =SUMIF($E64:$E67,"Co-op IA 1",AG64:AG67) -> 0 | AH11: =SUMIF($E64:$E67,"Co-op IA 1",AH64:AH67) -> 0 | AK11: =SUMIF($E64:$E67,"Co-op IA 1",AK64:AK67) -> 0 | AL11: =SUMIF($E64:$E67,"Co-op IA 1",AL64:AL67) -> 0 | AM11: =SUMIF($E64:$E67,"Co-op IA 1",AM64:AM67) -> 0 | AO11: =SUMIF($E64:$E67,"Co-op IA 1",AO64:AO67) -> 0 | AP11: =SUMIF($E64:$E67,"Co-op IA 1",AP64:AP67) -> 0 | AQ11: =SUMIF($E64:$E67,"Co-op IA 1",AQ64:AQ67) -> 0 | AR11: =AP11/AO11 -> #DIV/0! | AS11: =SUMIF($E64:$E67,"Co-op IA 1",AS64:AS67) -> 0 | AT11: =SUMIF($E64:$E67,"Co-op IA 1",AT64:AT67) -> 0 | AW11: =SUMIF($E64:$E67,"Co-op IA 1",AW64:AW67) -> 0 | AX11: =SUMIF($E64:$E67,"Co-op IA 1",AX64:AX67) -> 0 | AY11: =SUMIF($E64:$E67,"Co-op IA 1",AY64:AY67) -> 0 | BA11: =SUMIF($E64:$E67,"Co-op IA 1",BA64:BA67) -> 0 | BB11: =SUMIF($E64:$E67,"Co-op IA 1",BB64:BB67) -> 0 | BC11: =SUMIF($E64:$E67,"Co-op IA 1",BC64:BC67) -> 0 | BD11: =BB11/BA11 -> #DIV/0! | BE11: =SUMIF($E64:$E67,"Co-op IA 1",BE64:BE67) -> 0 | BF11: =SUMIF($E64:$E67,"Co-op IA 1",BF64:BF67) -> 0
B12: Subtotal for Cooperating Agency 2 | F12: =SUMIF($E64:$E67,"Co-op IA 2",F64:F67) -> 0 | K12: =SUMIF($E64:$E67,"Co-op IA 2",K64:K67) -> 0 | L12: =SUMIF($E64:$E67,"Co-op IA 2",L64:L67) -> 0 | M12: =SUMIF($E64:$E67,"Co-op IA 2",M64:M67) -> 0 | N12: =L12/K12 -> #DIV/0! | Q12: =SUMIF($E64:$E67,"Co-op IA 2",Q64:Q67) -> 0 | R12: =SUMIF($E64:$E67,"Co-op IA 2",R64:R67) -> 0 | S12: =SUMIF($E64:$E67,"Co-op IA 2",S64:S67) -> 0 | T12: =R12/Q12 -> #DIV/0! | U12: =SUMIF($E64:$E67,"Co-op IA 2",U64:U67) -> 0 | V12: =SUMIF($E64:$E67,"Co-op IA 2",V64:V67) -> 0 | Y12: =SUMIF($E64:$E67,"Co-op IA 2",Y64:Y67) -> 0 | Z12: =SUMIF($E64:$E67,"Co-op IA 2",Z64:Z67) -> 0 | AA12: =SUMIF($E64:$E67,"Co-op IA 2",AA64:AA67) -> 0 | AC12: =SUMIF($E64:$E67,"Co-op IA 2",AC64:AC67) -> 0 | AD12: =SUMIF($E64:$E67,"Co-op IA 2",AD64:AD67) -> 0 | AE12: =SUMIF($E64:$E67,"Co-op IA 2",AE64:AE67) -> 0 | AF12: =AD12/AC12 -> #DIV/0! | AG12: =SUMIF($E64:$E67,"Co-op IA 2",AG64:AG67) -> 0 | AH12: =SUMIF($E64:$E67,"Co-op IA 2",AH64:AH67) -> 0 | AK12: =SUMIF($E64:$E67,"Co-op IA 2",AK64:AK67) -> 0 | AL12: =SUMIF($E64:$E67,"Co-op IA 2",AL64:AL67) -> 0 | AM12: =SUMIF($E64:$E67,"Co-op IA 2",AM64:AM67) -> 0 | AO12: =SUMIF($E64:$E67,"Co-op IA 2",AO64:AO67) -> 0 | AP12: =SUMIF($E64:$E67,"Co-op IA 2",AP64:AP67) -> 0 | AQ12: =SUMIF($E64:$E67,"Co-op IA 2",AQ64:AQ67) -> 0 | AR12: =AP12/AO12 -> #DIV/0! | AS12: =SUMIF($E64:$E67,"Co-op IA 2",AS64:AS67) -> 0 | AT12: =SUMIF($E64:$E67,"Co-op IA 2",AT64:AT67) -> 0 | AW12: =SUMIF($E64:$E67,"Co-op IA 2",AW64:AW67) -> 0 | AX12: =SUMIF($E64:$E67,"Co-op IA 2",AX64:AX67) -> 0 | AY12: =SUMIF($E64:$E67,"Co-op IA 2",AY64:AY67) -> 0 | BA12: =SUMIF($E64:$E67,"Co-op IA 2",BA64:BA67) -> 0 | BB12: =SUMIF($E64:$E67,"Co-op IA 2",BB64:BB67) -> 0 | BC12: =SUMIF($E64:$E67,"Co-op IA 2",BC64:BC67) -> 0 | BD12: =BB12/BA12 -> #DIV/0! | BE12: =SUMIF($E64:$E67,"Co-op IA 2",BE64:BE67) -> 0 | BF12: =SUMIF($E64:$E67,"Co-op IA 2",BF64:BF67) -> 0
B13: Subtotal for Cooperating Agency 3 | F13: =SUMIF($E64:$E67,"Co-op IA 3",F64:F67) -> 0 | K13: =SUMIF($E64:$E67,"Co-op IA 3",K64:K67) -> 0 | L13: =SUMIF($E64:$E67,"Co-op IA 3",L64:L67) -> 0 | M13: =SUMIF($E64:$E67,"Co-op IA 3",M64:M67) -> 0 | N13: =L13/K13 -> #DIV/0! | Q13: =SUMIF($E64:$E67,"Co-op IA 3",Q64:Q67) -> 0 | R13: =SUMIF($E64:$E67,"Co-op IA 3",R64:R67) -> 0 | S13: =SUMIF($E64:$E67,"Co-op IA 3",S64:S67) -> 0 | T13: =R13/Q13 -> #DIV/0! | U13: =SUMIF($E64:$E67,"Co-op IA 3",U64:U67) -> 0 | V13: =SUMIF($E64:$E67,"Co-op IA 3",V64:V67) -> 0 | Y13: =SUMIF($E64:$E67,"Co-op IA 3",Y64:Y67) -> 0 | Z13: =SUMIF($E64:$E67,"Co-op IA 3",Z64:Z67) -> 0 | AA13: =SUMIF($E64:$E67,"Co-op IA 3",AA64:AA67) -> 0 | AC13: =SUMIF($E64:$E67,"Co-op IA 3",AC64:AC67) -> 0 | AD13: =SUMIF($E64:$E67,"Co-op IA 3",AD64:AD67) -> 0 | AE13: =SUMIF($E64:$E67,"Co-op IA 3",AE64:AE67) -> 0 | AF13: =AD13/AC13 -> #DIV/0! | AG13: =SUMIF($E64:$E67,"Co-op IA 3",AG64:AG67) -> 0 | AH13: =SUMIF($E64:$E67,"Co-op IA 3",AH64:AH67) -> 0 | AK13: =SUMIF($E64:$E67,"Co-op IA 3",AK64:AK67) -> 0 | AL13: =SUMIF($E64:$E67,"Co-op IA 3",AL64:AL67) -> 0 | AM13: =SUMIF($E64:$E67,"Co-op IA 3",AM64:AM67) -> 0 | AO13: =SUMIF($E64:$E67,"Co-op IA 3",AO64:AO67) -> 0 | AP13: =SUMIF($E64:$E67,"Co-op IA 3",AP64:AP67) -> 0 | AQ13: =SUMIF($E64:$E67,"Co-op IA 3",AQ64:AQ67) -> 0 | AR13: =AP13/AO13 -> #DIV/0! | AS13: =SUMIF($E64:$E67,"Co-op IA 3",AS64:AS67) -> 0 | AT13: =SUMIF($E64:$E67,"Co-op IA 3",AT64:AT67) -> 0 | AW13: =SUMIF($E64:$E67,"Co-op IA 3",AW64:AW67) -> 0 | AX13: =SUMIF($E64:$E67,"Co-op IA 3",AX64:AX67) -> 0 | AY13: =SUMIF($E64:$E67,"Co-op IA 3",AY64:AY67) -> 0 | BA13: =SUMIF($E64:$E67,"Co-op IA 3",BA64:BA67) -> 0 | BB13: =SUMIF($E64:$E67,"Co-op IA 3",BB64:BB67) -> 0 | BC13: =SUMIF($E64:$E67,"Co-op IA 3",BC64:BC67) -> 0 | BD13: =BB13/BA13 -> #DIV/0! | BE13: =SUMIF($E64:$E67,"Co-op IA 3",BE64:BE67) -> 0 | BF13: =SUMIF($E64:$E67,"Co-op IA 3",BF64:BF67) -> 0
B14: Total for Project Coordination and Monitoring | F14: =SUM(F10:F13) -> 0 | K14: =SUM(K10:K13) -> 0 | L14: =SUM(L10:L13) -> 0 | M14: =SUM(M10:M13) -> 0 | N14: =L14/K14 -> #DIV/0! | Q14: =SUM(Q10:Q13) -> 0 | R14: =SUM(R10:R13) -> 0 | S14: =SUM(S10:S13) -> 0 | T14: =R14/Q14 -> #DIV/0! | U14: =SUM(U10:U13) -> 0 | V14: =SUM(V10:V13) -> 0 | Y14: =SUM(Y10:Y13) -> 0 | Z14: =SUM(Z10:Z13) -> 0 | AA14: =SUM(AA10:AA13) -> 0 | AC14: =SUM(AC10:AC13) -> 0 | AD14: =SUM(AD10:AD13) -> 0 | AE14: =SUM(AE10:AE13) -> 0 | AF14: =AD14/AC14 -> #DIV/0! | AG14: =SUM(AG10:AG13) -> 0 | AH14: =SUM(AH10:AH13) -> 0 | AK14: =SUM(AK10:AK13) -> 0 | AL14: =SUM(AL10:AL13) -> 0 | AM14: =SUM(AM10:AM13) -> 0 | AO14: =SUM(AO10:AO13) -> 0 | AP14: =SUM(AP10:AP13) -> 0 | AQ14: =SUM(AQ10:AQ13) -> 0 | AR14: =AP14/AO14 -> #DIV/0! | AS14: =SUM(AS10:AS13) -> 0 | AT14: =SUM(AT10:AT13) -> 0 | AW14: =SUM(AW10:AW13) -> 0 | AX14: =SUM(AX10:AX13) -> 0 | AY14: =SUM(AY10:AY13) -> 0 | BA14: =SUM(BA10:BA13) -> 0 | BB14: =SUM(BB10:BB13) -> 0 | BC14: =SUM(BC10:BC13) -> 0 | BD14: =BB14/BA14 -> #DIV/0! | BE14: =SUM(BE10:BE13) -> 0 | BF14: =SUM(BF10:BF13) -> 0
B16: Fund disbursement and progress on non-investment project activities (add or delete rows as needed) | Q16: Reporting Period From: | S16: MM/YYYY | T16: To: | U16: MM/YYYY | X16: Implementation From: | Z16: MM/YYYY | AA16: To: | AB16: MM/YYYY | AC16: Reporting Period From: | AE16: MM/YYYY | AF16: To: | AG16: MM/YYYY | AI16: MM/YYYY | AJ16: Implementation From: | AL16: MM/YYYY | AM16: To: | AN16: MM/YYYY | AO16: Reporting Period From: | AQ16: MM/YYYY | AR16: To: | AS16: MM/YYYY | AU16: MM/YYYY | AV16: Implementation From: | AX16: MM/YYYY | AY16: To: | AZ16: MM/YYYY | BA16: Reporting Period From: | BC16: MM/YYYY | BD16: To: | BE16: MM/YYYY | BG16: MM/YYYY
B17: Component & Activity Title | C17: Subactivity Description | D17: Implementing Agency | E17: IA Role | F17: =F2 -> KIP Stage I Summary | Q17: =Q2 -> KIP Stage I - First Tranche Reporting | X17: =X2 -> Kigali HFC Implementation Plan (stage I, second tranche) - Request for Funding | AC17: =AC2 -> KIP Stage I - Second Tranche Reporting | AJ17: =AJ2 -> Kigali HFC Implementation Plan (stage I, third tranche) - Request for Funding | AO17: =AO2 -> KIP Stage I - Third Tranche Reporting | AV17: =AV2 -> Kigali HFC Implementation Plan (stage I, fourth tranche) - Request for Funding | BA17: =BA2 -> KIP Stage I - Fourth Tranche Reporting
K18: (US $) | L18: (US $) | M18: (US $) | N18: (%) | O18: Completed | P18: Ongoing | Q18: (US $) | R18: (US $) | S18: (US $) | T18: (%) | U18: for Agency use only | W18: Activities and targets completed for the tranche | X18: Activity continued from previous tranche? | Y18: (US $) | Z18: (US $) | AA18: (US $) | AB18: Activities remaining to be implemented during the next tranche | AC18: (US $) | AD18: (US $) | AE18: (US $) | AF18: (%) | AG18: for Agency use only | AI18: Activities and targets completed for the tranche | AJ18: Activity continued from previous tranche? | AK18: (US $) | AL18: (US $) | AM18: (US $) | AN18: Activities remaining to be implemented during the next tranche | AO18: (US $) | AP18: (US $) | AQ18: (US $) | AR18: (%) | AS18: for Agency use only | AU18: Activities and targets completed for the tranche | AV18: Activity continued from previous tranche? | AW18: (US $) | AX18: (US $) | AY18: (US $) | AZ18: Activities remaining to be implemented during the next tranche | BA18: (US $) | BB18: (US $) | BC18: (US $) | BD18: (%) | BE18: for Agency use only | BG18: Activities and targets completed for the tranche
F19: Overall funds for Stage I Approved in Principle | G19: Tranche 1 | H19: Tranche 2 | I19: Tranche 3 | J19: Tranche 4 | K19: Cumulative Amount Approved | L19: Cumulative Amount Disbursed | M19: Cumulative Balance | N19: Cumulative Disburse-ment Rate | Q19: Approved for Tranche | R19: Disbursed for Tranche | S19: Tranche Balance | T19: Tranche Disbursement Rate | U19: Committed for Tranche | V19: Tranche Balance with Committed | Y19: Funding requested | Z19: Balance of funds remaining to be disbursed from previous tranche | AA19: Total budget planned during implementation period | AC19: Approved for Tranche | AD19: Disbursed for Tranche | AE19: Tranche Balance | AF19: Tranche Disbursement Rate | AG19: Committed for Tranche | AH19: Tranche Balance with Committed | AK19: Funding requested | AL19: Balance of funds remaining to be disbursed from previous tranche | AM19: Total budget planned during implementation period | AO19: Approved for Tranche | AP19: Disbursed for Tranche | AQ19: Tranche Balance | AR19: Tranche Disbursement Rate | AS19: Committed for Tranche | AT19: Tranche Balance with Committed | AW19: Funding requested | AX19: Balance of funds remaining to be disbursed from previous tranche | AY19: Total budget planned during implementation period | BA19: Approved for Tranche | BB19: Disbursed for Tranche | BC19: Tranche Balance | BD19: Tranche Disbursement Rate | BE19: Committed for Tranche | BF19: Tranche Balance with Committed
B20: Component 1: | Q20: =$B20 -> Component 1: | X20: =$B20 -> Component 1: | AJ20: =$B20 -> Component 1: | AV20: =$B20 -> Component 1:
B21: Activity 1.1: | C21: 1.1.1: | K21: =Q21+AC21+AO21 -> 0 | L21: =R21+AD21+AP21 -> 0 | M21: =S21+AE21+AQ21 -> 0 | N21: =L21/K21 -> #DIV/0! | O21: FALSE | P21: FALSE | S21: =Q21-R21 -> 0 | T21: =R21/Q21 -> #DIV/0! | V21: =S21-U21 -> 0 | X21: FALSE | Z21: =S21 -> 0 | AA21: =Y21+Z21 -> 0 | AC21: =Y21 -> 0 | AE21: =AC21-AD21 -> 0 | AF21: =AD21/AC21 -> #DIV/0! | AH21: =AE21-AG21 -> 0 | AJ21: FALSE | AL21: =AE21+S21 -> 0 | AM21: =AK21+AL21 -> 0 | AO21: =AK21 -> 0 | AQ21: =AO21-AP21 -> 0 | AR21: =AP21/AO21 -> #DIV/0! | AT21: =AQ21-AS21 -> 0 | AV21: FALSE | AX21: =AQ21+AE21 -> 0 | AY21: =AW21+AX21 -> 0 | BA21: =AW21 -> 0 | BC21: =BA21-BB21 -> 0 | BD21: =BB21/BA21 -> #DIV/0! | BF21: =BC21-BE21 -> 0
C22: 1.1.2: | K22: =Q22+AC22+AO22 -> 0 | L22: =R22+AD22+AP22 -> 0 | M22: =S22+AE22+AQ22 -> 0 | N22: =L22/K22 -> #DIV/0! | O22: FALSE | P22: FALSE | S22: =Q22-R22 -> 0 | T22: =R22/Q22 -> #DIV/0! | V22: =S22-U22 -> 0 | X22: FALSE | Z22: =S22 -> 0 | AA22: =Y22+Z22 -> 0 | AC22: =Y22 -> 0 | AE22: =AC22-AD22 -> 0 | AF22: =AD22/AC22 -> #DIV/0! | AH22: =AE22-AG22 -> 0 | AJ22: FALSE | AL22: =AE22+S22 -> 0 | AM22: =AK22+AL22 -> 0 | AO22: =AK22 -> 0 | AQ22: =AO22-AP22 -> 0 | AR22: =AP22/AO22 -> #DIV/0! | AT22: =AQ22-AS22 -> 0 | AV22: FALSE | AX22: =AQ22+AE22 -> 0 | AY22: =AW22+AX22 -> 0 | BA22: =AW22 -> 0 | BC22: =BA22-BB22 -> 0 | BD22: =BB22/BA22 -> #DIV/0! | BF22: =BC22-BE22 -> 0
C23: 1.1.3: | K23: =Q23+AC23+AO23 -> 0 | L23: =R23+AD23+AP23 -> 0 | M23: =S23+AE23+AQ23 -> 0 | N23: =L23/K23 -> #DIV/0! | O23: FALSE | P23: FALSE | S23: =Q23-R23 -> 0 | T23: =R23/Q23 -> #DIV/0! | V23: =S23-U23 -> 0 | X23: FALSE | Z23: =S23 -> 0 | AA23: =Y23+Z23 -> 0 | AC23: =Y23 -> 0 | AE23: =AC23-AD23 -> 0 | AF23: =AD23/AC23 -> #DIV/0! | AH23: =AE23-AG23 -> 0 | AJ23: FALSE | AL23: =AE23+S23 -> 0 | AM23: =AK23+AL23 -> 0 | AO23: =AK23 -> 0 | AQ23: =AO23-AP23 -> 0 | AR23: =AP23/AO23 -> #DIV/0! | AT23: =AQ23-AS23 -> 0 | AV23: FALSE | AX23: =AQ23+AE23 -> 0 | AY23: =AW23+AX23 -> 0 | BA23: =AW23 -> 0 | BC23: =BA23-BB23 -> 0 | BD23: =BB23/BA23 -> #DIV/0! | BF23: =BC23-BE23 -> 0
B24: Activity 1.2: | C24: 1.2.1: | K24: =Q24+AC24+AO24 -> 0 | L24: =R24+AD24+AP24 -> 0 | M24: =S24+AE24+AQ24 -> 0 | N24: =L24/K24 -> #DIV/0! | O24: FALSE | P24: FALSE | S24: =Q24-R24 -> 0 | T24: =R24/Q24 -> #DIV/0! | V24: =S24-U24 -> 0 | X24: FALSE | Z24: =S24 -> 0 | AA24: =Y24+Z24 -> 0 | AC24: =Y24 -> 0 | AE24: =AC24-AD24 -> 0 | AF24: =AD24/AC24 -> #DIV/0! | AH24: =AE24-AG24 -> 0 | AJ24: FALSE | AL24: =AE24+S24 -> 0 | AM24: =AK24+AL24 -> 0 | AO24: =AK24 -> 0 | AQ24: =AO24-AP24 -> 0 | AR24: =AP24/AO24 -> #DIV/0! | AT24: =AQ24-AS24 -> 0 | AV24: FALSE | AX24: =AQ24+AE24 -> 0 | AY24: =AW24+AX24 -> 0 | BA24: =AW24 -> 0 | BC24: =BA24-BB24 -> 0 | BD24: =BB24/BA24 -> #DIV/0! | BF24: =BC24-BE24 -> 0
C25: 1.2.2: | K25: =Q25+AC25+AO25 -> 0 | L25: =R25+AD25+AP25 -> 0 | M25: =S25+AE25+AQ25 -> 0 | N25: =L25/K25 -> #DIV/0! | O25: FALSE | P25: FALSE | S25: =Q25-R25 -> 0 | T25: =R25/Q25 -> #DIV/0! | V25: =S25-U25 -> 0 | X25: FALSE | Z25: =S25 -> 0 | AA25: =Y25+Z25 -> 0 | AC25: =Y25 -> 0 | AE25: =AC25-AD25 -> 0 | AF25: =AD25/AC25 -> #DIV/0! | AH25: =AE25-AG25 -> 0 | AJ25: FALSE | AL25: =AE25+S25 -> 0 | AM25: =AK25+AL25 -> 0 | AO25: =AK25 -> 0 | AQ25: =AO25-AP25 -> 0 | AR25: =AP25/AO25 -> #DIV/0! | AT25: =AQ25-AS25 -> 0 | AV25: FALSE | AX25: =AQ25+AE25 -> 0 | AY25: =AW25+AX25 -> 0 | BA25: =AW25 -> 0 | BC25: =BA25-BB25 -> 0 | BD25: =BB25/BA25 -> #DIV/0! | BF25: =BC25-BE25 -> 0
C26: 1.2.3: | K26: =Q26+AC26+AO26 -> 0 | L26: =R26+AD26+AP26 -> 0 | M26: =S26+AE26+AQ26 -> 0 | N26: =L26/K26 -> #DIV/0! | O26: FALSE | P26: FALSE | S26: =Q26-R26 -> 0 | T26: =R26/Q26 -> #DIV/0! | V26: =S26-U26 -> 0 | X26: FALSE | Z26: =S26 -> 0 | AA26: =Y26+Z26 -> 0 | AC26: =Y26 -> 0 | AE26: =AC26-AD26 -> 0 | AF26: =AD26/AC26 -> #DIV/0! | AH26: =AE26-AG26 -> 0 | AJ26: FALSE | AL26: =AE26+S26 -> 0 | AM26: =AK26+AL26 -> 0 | AO26: =AK26 -> 0 | AQ26: =AO26-AP26 -> 0 | AR26: =AP26/AO26 -> #DIV/0! | AT26: =AQ26-AS26 -> 0 | AV26: FALSE | AX26: =AQ26+AE26 -> 0 | AY26: =AW26+AX26 -> 0 | BA26: =AW26 -> 0 | BC26: =BA26-BB26 -> 0 | BD26: =BB26/BA26 -> #DIV/0! | BF26: =BC26-BE26 -> 0
B27: Activity 1.3: | C27: 1.3.1: | K27: =Q27+AC27+AO27 -> 0 | L27: =R27+AD27+AP27 -> 0 | M27: =S27+AE27+AQ27 -> 0 | N27: =L27/K27 -> #DIV/0! | O27: FALSE | P27: FALSE | S27: =Q27-R27 -> 0 | T27: =R27/Q27 -> #DIV/0! | V27: =S27-U27 -> 0 | X27: FALSE | Z27: =S27 -> 0 | AA27: =Y27+Z27 -> 0 | AC27: =Y27 -> 0 | AE27: =AC27-AD27 -> 0 | AF27: =AD27/AC27 -> #DIV/0! | AH27: =AE27-AG27 -> 0 | AJ27: FALSE | AL27: =AE27+S27 -> 0 | AM27: =AK27+AL27 -> 0 | AO27: =AK27 -> 0 | AQ27: =AO27-AP27 -> 0 | AR27: =AP27/AO27 -> #DIV/0! | AT27: =AQ27-AS27 -> 0 | AV27: FALSE | AX27: =AQ27+AE27 -> 0 | AY27: =AW27+AX27 -> 0 | BA27: =AW27 -> 0 | BC27: =BA27-BB27 -> 0 | BD27: =BB27/BA27 -> #DIV/0! | BF27: =BC27-BE27 -> 0
C28: 1.3.2: | K28: =Q28+AC28+AO28 -> 0 | L28: =R28+AD28+AP28 -> 0 | M28: =S28+AE28+AQ28 -> 0 | N28: =L28/K28 -> #DIV/0! | O28: FALSE | P28: FALSE | S28: =Q28-R28 -> 0 | T28: =R28/Q28 -> #DIV/0! | V28: =S28-U28 -> 0 | X28: FALSE | Z28: =S28 -> 0 | AA28: =Y28+Z28 -> 0 | AC28: =Y28 -> 0 | AE28: =AC28-AD28 -> 0 | AF28: =AD28/AC28 -> #DIV/0! | AH28: =AE28-AG28 -> 0 | AJ28: FALSE | AL28: =AE28+S28 -> 0 | AM28: =AK28+AL28 -> 0 | AO28: =AK28 -> 0 | AQ28: =AO28-AP28 -> 0 | AR28: =AP28/AO28 -> #DIV/0! | AT28: =AQ28-AS28 -> 0 | AV28: FALSE | AX28: =AQ28+AE28 -> 0 | AY28: =AW28+AX28 -> 0 | BA28: =AW28 -> 0 | BC28: =BA28-BB28 -> 0 | BD28: =BB28/BA28 -> #DIV/0! | BF28: =BC28-BE28 -> 0
C29: 1.3.3: | K29: =Q29+AC29+AO29 -> 0 | L29: =R29+AD29+AP29 -> 0 | M29: =S29+AE29+AQ29 -> 0 | N29: =L29/K29 -> #DIV/0! | O29: FALSE | P29: FALSE | S29: =Q29-R29 -> 0 | T29: =R29/Q29 -> #DIV/0! | V29: =S29-U29 -> 0 | X29: FALSE | Z29: =S29 -> 0 | AA29: =Y29+Z29 -> 0 | AC29: =Y29 -> 0 | AE29: =AC29-AD29 -> 0 | AF29: =AD29/AC29 -> #DIV/0! | AH29: =AE29-AG29 -> 0 | AJ29: FALSE | AL29: =AE29+S29 -> 0 | AM29: =AK29+AL29 -> 0 | AO29: =AK29 -> 0 | AQ29: =AO29-AP29 -> 0 | AR29: =AP29/AO29 -> #DIV/0! | AT29: =AQ29-AS29 -> 0 | AV29: FALSE | AX29: =AQ29+AE29 -> 0 | AY29: =AW29+AX29 -> 0 | BA29: =AW29 -> 0 | BC29: =BA29-BB29 -> 0 | BD29: =BB29/BA29 -> #DIV/0! | BF29: =BC29-BE29 -> 0
B30: Component 1 Subtotal | F30: =SUBTOTAL(9,F21:F29) -> 0 | K30: =SUBTOTAL(9,K23:K29) -> 0 | L30: =SUBTOTAL(9,L23:L29) -> 0 | M30: =SUBTOTAL(9,M23:M29) -> 0 | N30: =L30/K30 -> #DIV/0! | Q30: =SUBTOTAL(9,Q21:Q29) -> 0 | R30: =SUBTOTAL(9,R21:R29) -> 0 | S30: =SUBTOTAL(9,S21:S29) -> 0 | T30: =R30/Q30 -> #DIV/0! | U30: =SUBTOTAL(9,U21:U29) -> 0 | V30: =SUBTOTAL(9,V21:V29) -> 0 | Y30: =SUBTOTAL(9,Y21:Y29) -> 0 | Z30: =SUBTOTAL(9,Z21:Z29) -> 0 | AA30: =SUBTOTAL(9,AA21:AA29) -> 0 | AC30: =SUBTOTAL(9,AC21:AC29) -> 0 | AD30: =SUBTOTAL(9,AD21:AD29) -> 0 | AE30: =SUBTOTAL(9,AE21:AE29) -> 0 | AF30: =AD30/AC30 -> #DIV/0! | AG30: =SUBTOTAL(9,AG21:AG29) -> 0 | AH30: =SUBTOTAL(9,AH21:AH29) -> 0 | AK30: =SUBTOTAL(9,AK21:AK29) -> 0 | AL30: =SUBTOTAL(9,AL21:AL29) -> 0 | AM30: =SUBTOTAL(9,AM21:AM29) -> 0 | AO30: =SUBTOTAL(9,AO21:AO29) -> 0 | AP30: =SUBTOTAL(9,AP21:AP29) -> 0 | AQ30: =SUBTOTAL(9,AQ21:AQ29) -> 0 | AR30: =AP30/AO30 -> #DIV/0! | AS30: =SUBTOTAL(9,AS21:AS29) -> 0 | AT30: =SUBTOTAL(9,AT21:AT29) -> 0 | AW30: =SUBTOTAL(9,AW21:AW29) -> 0 | AX30: =SUBTOTAL(9,AX21:AX29) -> 0 | AY30: =SUBTOTAL(9,AY21:AY29) -> 0 | BA30: =SUBTOTAL(9,BA21:BA29) -> 0 | BB30: =SUBTOTAL(9,BB21:BB29) -> 0 | BC30: =SUBTOTAL(9,BC21:BC29) -> 0 | BD30: =BB30/BA30 -> #DIV/0! | BE30: =SUBTOTAL(9,BE21:BE29) -> 0 | BF30: =SUBTOTAL(9,BF21:BF29) -> 0
B31: Component 2: | Q31: =$B31 -> Component 2: | X31: =$B31 -> Component 2: | AJ31: =$B31 -> Component 2: | AV31: =$B31 -> Component 2:
B32: Activity 2.1: | C32: 2.1.1: | K32: =Q32+AC32+AO32 -> 0 | L32: =R32+AD32+AP32 -> 0 | M32: =S32+AE32+AQ32 -> 0 | N32: =L32/K32 -> #DIV/0! | O32: FALSE | P32: FALSE | S32: =Q32-R32 -> 0 | T32: =R32/Q32 -> #DIV/0! | V32: =S32-U32 -> 0 | X32: FALSE | Z32: =S32 -> 0 | AA32: =Y32+Z32 -> 0 | AC32: =Y32 -> 0 | AE32: =AC32-AD32 -> 0 | AF32: =AD32/AC32 -> #DIV/0! | AH32: =AE32-AG32 -> 0 | AJ32: FALSE | AL32: =AE32+S32 -> 0 | AM32: =AK32+AL32 -> 0 | AO32: =AK32 -> 0 | AQ32: =AO32-AP32 -> 0 | AR32: =AP32/AO32 -> #DIV/0! | AT32: =AQ32-AS32 -> 0 | AV32: FALSE | AX32: =AQ32+AE32 -> 0 | AY32: =AW32+AX32 -> 0 | BA32: =AW32 -> 0 | BC32: =BA32-BB32 -> 0 | BD32: =BB32/BA32 -> #DIV/0! | BF32: =BC32-BE32 -> 0
C33: 2.1.2: | K33: =Q33+AC33+AO33 -> 0 | L33: =R33+AD33+AP33 -> 0 | M33: =S33+AE33+AQ33 -> 0 | N33: =L33/K33 -> #DIV/0! | O33: FALSE | P33: FALSE | S33: =Q33-R33 -> 0 | T33: =R33/Q33 -> #DIV/0! | V33: =S33-U33 -> 0 | X33: FALSE | Z33: =S33 -> 0 | AA33: =Y33+Z33 -> 0 | AC33: =Y33 -> 0 | AE33: =AC33-AD33 -> 0 | AF33: =AD33/AC33 -> #DIV/0! | AH33: =AE33-AG33 -> 0 | AJ33: FALSE | AL33: =AE33+S33 -> 0 | AM33: =AK33+AL33 -> 0 | AO33: =AK33 -> 0 | AQ33: =AO33-AP33 -> 0 | AR33: =AP33/AO33 -> #DIV/0! | AT33: =AQ33-AS33 -> 0 | AV33: FALSE | AX33: =AQ33+AE33 -> 0 | AY33: =AW33+AX33 -> 0 | BA33: =AW33 -> 0 | BC33: =BA33-BB33 -> 0 | BD33: =BB33/BA33 -> #DIV/0! | BF33: =BC33-BE33 -> 0
C34: 2.1.3: | K34: =Q34+AC34+AO34 -> 0 | L34: =R34+AD34+AP34 -> 0 | M34: =S34+AE34+AQ34 -> 0 | N34: =L34/K34 -> #DIV/0! | O34: FALSE | P34: FALSE | S34: =Q34-R34 -> 0 | T34: =R34/Q34 -> #DIV/0! | V34: =S34-U34 -> 0 | X34: FALSE | Z34: =S34 -> 0 | AA34: =Y34+Z34 -> 0 | AC34: =Y34 -> 0 | AE34: =AC34-AD34 -> 0 | AF34: =AD34/AC34 -> #DIV/0! | AH34: =AE34-AG34 -> 0 | AJ34: FALSE | AL34: =AE34+S34 -> 0 | AM34: =AK34+AL34 -> 0 | AO34: =AK34 -> 0 | AQ34: =AO34-AP34 -> 0 | AR34: =AP34/AO34 -> #DIV/0! | AT34: =AQ34-AS34 -> 0 | AV34: FALSE | AX34: =AQ34+AE34 -> 0 | AY34: =AW34+AX34 -> 0 | BA34: =AW34 -> 0 | BC34: =BA34-BB34 -> 0 | BD34: =BB34/BA34 -> #DIV/0! | BF34: =BC34-BE34 -> 0
B35: Activity 2.2: | C35: 2.2.1: | K35: =Q35+AC35+AO35 -> 0 | L35: =R35+AD35+AP35 -> 0 | M35: =S35+AE35+AQ35 -> 0 | N35: =L35/K35 -> #DIV/0! | O35: FALSE | P35: FALSE | S35: =Q35-R35 -> 0 | T35: =R35/Q35 -> #DIV/0! | V35: =S35-U35 -> 0 | X35: FALSE | Z35: =S35 -> 0 | AA35: =Y35+Z35 -> 0 | AC35: =Y35 -> 0 | AE35: =AC35-AD35 -> 0 | AF35: =AD35/AC35 -> #DIV/0! | AH35: =AE35-AG35 -> 0 | AJ35: FALSE | AL35: =AE35+S35 -> 0 | AM35: =AK35+AL35 -> 0 | AO35: =AK35 -> 0 | AQ35: =AO35-AP35 -> 0 | AR35: =AP35/AO35 -> #DIV/0! | AT35: =AQ35-AS35 -> 0 | AV35: FALSE | AX35: =AQ35+AE35 -> 0 | AY35: =AW35+AX35 -> 0 | BA35: =AW35 -> 0 | BC35: =BA35-BB35 -> 0 | BD35: =BB35/BA35 -> #DIV/0! | BF35: =BC35-BE35 -> 0
C36: 2.2.2: | K36: =Q36+AC36+AO36 -> 0 | L36: =R36+AD36+AP36 -> 0 | M36: =S36+AE36+AQ36 -> 0 | N36: =L36/K36 -> #DIV/0! | O36: FALSE | P36: FALSE | S36: =Q36-R36 -> 0 | T36: =R36/Q36 -> #DIV/0! | V36: =S36-U36 -> 0 | X36: FALSE | Z36: =S36 -> 0 | AA36: =Y36+Z36 -> 0 | AC36: =Y36 -> 0 | AE36: =AC36-AD36 -> 0 | AF36: =AD36/AC36 -> #DIV/0! | AH36: =AE36-AG36 -> 0 | AJ36: FALSE | AL36: =AE36+S36 -> 0 | AM36: =AK36+AL36 -> 0 | AO36: =AK36 -> 0 | AQ36: =AO36-AP36 -> 0 | AR36: =AP36/AO36 -> #DIV/0! | AT36: =AQ36-AS36 -> 0 | AV36: FALSE | AX36: =AQ36+AE36 -> 0 | AY36: =AW36+AX36 -> 0 | BA36: =AW36 -> 0 | BC36: =BA36-BB36 -> 0 | BD36: =BB36/BA36 -> #DIV/0! | BF36: =BC36-BE36 -> 0
C37: 2.2.3: | K37: =Q37+AC37+AO37 -> 0 | L37: =R37+AD37+AP37 -> 0 | M37: =S37+AE37+AQ37 -> 0 | N37: =L37/K37 -> #DIV/0! | O37: FALSE | P37: FALSE | S37: =Q37-R37 -> 0 | T37: =R37/Q37 -> #DIV/0! | V37: =S37-U37 -> 0 | X37: FALSE | Z37: =S37 -> 0 | AA37: =Y37+Z37 -> 0 | AC37: =Y37 -> 0 | AE37: =AC37-AD37 -> 0 | AF37: =AD37/AC37 -> #DIV/0! | AH37: =AE37-AG37 -> 0 | AJ37: FALSE | AL37: =AE37+S37 -> 0 | AM37: =AK37+AL37 -> 0 | AO37: =AK37 -> 0 | AQ37: =AO37-AP37 -> 0 | AR37: =AP37/AO37 -> #DIV/0! | AT37: =AQ37-AS37 -> 0 | AV37: FALSE | AX37: =AQ37+AE37 -> 0 | AY37: =AW37+AX37 -> 0 | BA37: =AW37 -> 0 | BC37: =BA37-BB37 -> 0 | BD37: =BB37/BA37 -> #DIV/0! | BF37: =BC37-BE37 -> 0
B38: Activity 2.3: | C38: 2.3.1: | K38: =Q38+AC38+AO38 -> 0 | L38: =R38+AD38+AP38 -> 0 | M38: =S38+AE38+AQ38 -> 0 | N38: =L38/K38 -> #DIV/0! | O38: FALSE | P38: FALSE | S38: =Q38-R38 -> 0 | T38: =R38/Q38 -> #DIV/0! | V38: =S38-U38 -> 0 | X38: FALSE | Z38: =S38 -> 0 | AA38: =Y38+Z38 -> 0 | AC38: =Y38 -> 0 | AE38: =AC38-AD38 -> 0 | AF38: =AD38/AC38 -> #DIV/0! | AH38: =AE38-AG38 -> 0 | AJ38: FALSE | AL38: =AE38+S38 -> 0 | AM38: =AK38+AL38 -> 0 | AO38: =AK38 -> 0 | AQ38: =AO38-AP38 -> 0 | AR38: =AP38/AO38 -> #DIV/0! | AT38: =AQ38-AS38 -> 0 | AV38: FALSE | AX38: =AQ38+AE38 -> 0 | AY38: =AW38+AX38 -> 0 | BA38: =AW38 -> 0 | BC38: =BA38-BB38 -> 0 | BD38: =BB38/BA38 -> #DIV/0! | BF38: =BC38-BE38 -> 0
C39: 2.3.2: | K39: =Q39+AC39+AO39 -> 0 | L39: =R39+AD39+AP39 -> 0 | M39: =S39+AE39+AQ39 -> 0 | N39: =L39/K39 -> #DIV/0! | O39: FALSE | P39: FALSE | S39: =Q39-R39 -> 0 | T39: =R39/Q39 -> #DIV/0! | V39: =S39-U39 -> 0 | X39: FALSE | Z39: =S39 -> 0 | AA39: =Y39+Z39 -> 0 | AC39: =Y39 -> 0 | AE39: =AC39-AD39 -> 0 | AF39: =AD39/AC39 -> #DIV/0! | AH39: =AE39-AG39 -> 0 | AJ39: FALSE | AL39: =AE39+S39 -> 0 | AM39: =AK39+AL39 -> 0 | AO39: =AK39 -> 0 | AQ39: =AO39-AP39 -> 0 | AR39: =AP39/AO39 -> #DIV/0! | AT39: =AQ39-AS39 -> 0 | AV39: FALSE | AX39: =AQ39+AE39 -> 0 | AY39: =AW39+AX39 -> 0 | BA39: =AW39 -> 0 | BC39: =BA39-BB39 -> 0 | BD39: =BB39/BA39 -> #DIV/0! | BF39: =BC39-BE39 -> 0
C40: 2.3.3: | K40: =Q40+AC40+AO40 -> 0 | L40: =R40+AD40+AP40 -> 0 | M40: =S40+AE40+AQ40 -> 0 | N40: =L40/K40 -> #DIV/0! | O40: FALSE | P40: FALSE | S40: =Q40-R40 -> 0 | T40: =R40/Q40 -> #DIV/0! | V40: =S40-U40 -> 0 | X40: FALSE | Z40: =S40 -> 0 | AA40: =Y40+Z40 -> 0 | AC40: =Y40 -> 0 | AE40: =AC40-AD40 -> 0 | AF40: =AD40/AC40 -> #DIV/0! | AH40: =AE40-AG40 -> 0 | AJ40: FALSE | AL40: =AE40+S40 -> 0 | AM40: =AK40+AL40 -> 0 | AO40: =AK40 -> 0 | AQ40: =AO40-AP40 -> 0 | AR40: =AP40/AO40 -> #DIV/0! | AT40: =AQ40-AS40 -> 0 | AV40: FALSE | AX40: =AQ40+AE40 -> 0 | AY40: =AW40+AX40 -> 0 | BA40: =AW40 -> 0 | BC40: =BA40-BB40 -> 0 | BD40: =BB40/BA40 -> #DIV/0! | BF40: =BC40-BE40 -> 0
B41: Component 2 Subtotal | F41: =SUBTOTAL(9,F32:F40) -> 0 | K41: =SUBTOTAL(9,K32:K40) -> 0 | L41: =SUBTOTAL(9,L32:L40) -> 0 | M41: =SUBTOTAL(9,M32:M40) -> 0 | N41: =L41/K41 -> #DIV/0! | Q41: =SUBTOTAL(9,Q32:Q40) -> 0 | R41: =SUBTOTAL(9,R32:R40) -> 0 | S41: =SUBTOTAL(9,S32:S40) -> 0 | T41: =R41/Q41 -> #DIV/0! | U41: =SUBTOTAL(9,U32:U40) -> 0 | V41: =SUBTOTAL(9,V32:V40) -> 0 | Y41: =SUBTOTAL(9,Y32:Y40) -> 0 | Z41: =SUBTOTAL(9,Z32:Z40) -> 0 | AA41: =SUBTOTAL(9,AA32:AA40) -> 0 | AC41: =SUBTOTAL(9,AC32:AC40) -> 0 | AD41: =SUBTOTAL(9,AD32:AD40) -> 0 | AE41: =SUBTOTAL(9,AE32:AE40) -> 0 | AF41: =AD41/AC41 -> #DIV/0! | AG41: =SUBTOTAL(9,AG32:AG40) -> 0 | AH41: =SUBTOTAL(9,AH32:AH40) -> 0 | AK41: =SUBTOTAL(9,AK32:AK40) -> 0 | AL41: =SUBTOTAL(9,AL32:AL40) -> 0 | AM41: =SUBTOTAL(9,AM32:AM40) -> 0 | AO41: =SUBTOTAL(9,AO32:AO40) -> 0 | AP41: =SUBTOTAL(9,AP32:AP40) -> 0 | AQ41: =SUBTOTAL(9,AQ32:AQ40) -> 0 | AR41: =AP41/AO41 -> #DIV/0! | AS41: =SUBTOTAL(9,AS32:AS40) -> 0 | AT41: =SUBTOTAL(9,AT32:AT40) -> 0 | AW41: =SUBTOTAL(9,AW32:AW40) -> 0 | AX41: =SUBTOTAL(9,AX32:AX40) -> 0 | AY41: =SUBTOTAL(9,AY32:AY40) -> 0 | BA41: =SUBTOTAL(9,BA32:BA40) -> 0 | BB41: =SUBTOTAL(9,BB32:BB40) -> 0 | BC41: =SUBTOTAL(9,BC32:BC40) -> 0 | BD41: =BB41/BA41 -> #DIV/0! | BE41: =SUBTOTAL(9,BE32:BE40) -> 0 | BF41: =SUBTOTAL(9,BF32:BF40) -> 0
B42: Component 3: | Q42: =$B42 -> Component 3: | X42: =$B42 -> Component 3: | AJ42: =$B42 -> Component 3: | AV42: =$B42 -> Component 3:
...

Sheet 3. Training & Equipment
B2: Quantitative summary: For training and equipment components (as applicable). Please fill in the specific targets (as relevant) achieved during the implementation of the tranche being reported on.
B3: Activity (please add rows as necessary) | C3: Stage I | G3: Tranche 1 | K3: Tranche 2 | O3: Comments
C4: Planned Total | D4: Cumulative Achieved Total | E4: Female | F4: Male | G4: Planned | H4: Achieved | I4: Female | J4: Male | K4: Planned | L4: Achieved | M4: Female | N4: Male
B5: Number of customs officers trained | C5: =G5+K5 -> 0 | D5: =H5+L5 -> 0 | E5: =I5+M5 -> 0 | F5: =J5+N5 -> 0 | H5: =I5+J5 -> 0 | L5: =M5+N5 -> 0 | O5: (specify topics)
B6: Number of enforcement officers/brokers/importer/other stakeholders trained | C6: =G6+K6 -> 0 | D6: =H6+L6 -> 0 | E6: =I6+M6 -> 0 | F6: =J6+N6 -> 0 | H6: =I6+J6 -> 0 | L6: =M6+N6 -> 0 | O6: enforcement officers
B7: Number of technicians trained | C7: =G7+K7 -> 0 | D7: =H7+L7 -> 0 | E7: =I7+M7 -> 0 | F7: =J7+N7 -> 0 | H7: =I7+J7 -> 0 | L7: =M7+N7 -> 0 | O7: (specify topics)
B8: Number of trainers trained | C8: =G8+K8 -> 0 | D8: =H8+L8 -> 0 | E8: =I8+M8 -> 0 | F8: =J8+N8 -> 0 | H8: =I8+J8 -> 0 | L8: =M8+N8 -> 0 | O8: (specify topics)
B9: Number of technicians certified | C9: =G9+K9 -> 0 | D9: =H9+L9 -> 0 | E9: =I9+M9 -> 0 | F9: =J9+N9 -> 0 | H9: =I9+J9 -> 0 | L9: =M9+N9 -> 0 | O9: (specify topics)
B10: Number of tool kits and equipment distributed | C10: =G10+K10 -> 0 | D10: =H10+L10 -> 0 | E10: =I10+M10 -> 0 | F10: =J10+N10 -> 0 | H10: =I10+J10 -> 0 | L10: =M10+N10 -> 0
B11: Number of training institutions newly assisted | C11: =G11+K11 -> 0 | D11: =H11+L11 -> 0 | E11: =I11+M11 -> 0 | F11: =J11+N11 -> 0 | H11: =I11+J11 -> 0 | L11: =M11+N11 -> 0
B12: Other quantifiable results: Please list any other quantifiable results achieved (e,g,. number of local RACHP associations strenghened) | C12: =G12+K12 -> 0 | D12: =H12+L12 -> 0 | E12: =I12+M12 -> 0 | F12: =J12+N12 -> 0 | H12: =I12+J12 -> 0 | L12: =M12+N12 -> 0 | O12: (specify stakeholder/ organization)
B13: Certification system for technicians established or further enhanced | C13: Mandatory | E13: FALSE
C14: Competency Based? | E14: FALSE
B15: Operation of recovery and recycling scheme | E15: FALSE
B16: Operation of reclamation scheme | E16: FALSE
B18: Indicative list of equipment / tools in toolkits
B19: Item Name | C19: Quantity | D19: Delivered?
D20: FALSE
D21: FALSE
D22: FALSE
D23: FALSE
D24: FALSE
D25: FALSE
